BEGIN:VCALENDAR
VERSION:2.0
PRODID:-//hacksw/handcal//NONSGML v1.0//EN
CALSCALE:GREGORIAN
BEGIN:VTIMEZONE
TZID:Europe/Berlin
X-LIC-LOCATION:Europe/Berlin
BEGIN:DAYLIGHT
TZOFFSETFROM:+0100
TZOFFSETTO:+0200
TZNAME:CEST
DTSTART:19700329T020000
RRULE:FREQ=YEARLY;BYDAY=-1SU;BYMONTH=3
END:DAYLIGHT
BEGIN:STANDARD
TZOFFSETFROM:+0200
TZOFFSETTO:+0100
TZNAME:CET
DTSTART:19701025T030000
RRULE:FREQ=YEARLY;BYDAY=-1SU;BYMONTH=10
END:STANDARD
END:VTIMEZONE
BEGIN:VEVENT
DTEND;TZID=Europe/Berlin:20260517T100000
UID:69e60f2022cc4
DTSTAMP:20260420T133352
LOCATION:Kinder-\, Jugend- und Kulturzentrum Z Filderstadt
DESCRIPTION:Jugendliche aus unserer Partnerstadt "La Souterraine" kommen uns dieses Jahr wieder besuchen. \r\nGemeinsam wollen wir tolle Tage mit verschiedenen Aktionen gemeinsam verbringen. \r\n
URL;VALUE=URI:https://www.unser-ferienprogramm.de/z-filderstadt/veranstaltung.php?id=308963
SUMMARY:Frankreichaustausch - La Souterrain kommt uns besuchen
DTSTART;TZID=Europe/Berlin:20260514T170000
END:VEVENT

END:VCALENDAR
