BEGIN:VCALENDAR
VERSION:2.0
PRODID:-//hacksw/handcal//NONSGML v1.0//EN
CALSCALE:GREGORIAN
BEGIN:VTIMEZONE
TZID:Europe/Berlin
X-LIC-LOCATION:Europe/Berlin
BEGIN:DAYLIGHT
TZOFFSETFROM:+0100
TZOFFSETTO:+0200
TZNAME:CEST
DTSTART:19700329T020000
RRULE:FREQ=YEARLY;BYDAY=-1SU;BYMONTH=3
END:DAYLIGHT
BEGIN:STANDARD
TZOFFSETFROM:+0200
TZOFFSETTO:+0100
TZNAME:CET
DTSTART:19701025T030000
RRULE:FREQ=YEARLY;BYDAY=-1SU;BYMONTH=10
END:STANDARD
END:VTIMEZONE
BEGIN:VEVENT
DTEND;TZID=Europe/Berlin:20260701T220000
UID:69e6236faae9b
DTSTAMP:20260420T150031
LOCATION:Hollerplatz (neben dem Kunstmuseum)
DESCRIPTION:Summerbreak\r\nVom 01.07. bis zum 05.07. startet die Jugendförderung auf dem Hollerplatz (neben dem Kunstmuseum)\, mit dem „Summerbreak“ in die Sommerferien.\r\nTäglich von 16:00 Uhr bis 22:00 Uhr können Jugendliche ab 14 Jahren bei sommerlichem Flair ein buntes Angebot genießen. \r\nWer Lust hat bei einem Kaltgetränk an der Bar\, in der Sonne zu chillen\, an einem der vielen coolen Aktionen\, wie z.B. VR-Gaming oder Pizza backen teilzunehmen\, Live Musik zu genießen\, zu den Beats der DJ´ s mitzuwippen oder nette Menschen zu treffen\, ist hier genau richtig. \r\nEin Highlight in diesem Jahr\, wird u.a. das Live-Musik-Festival am 04.07. sein.\r\nDas Angebot ist (bis auf die Getränke an der Bar) kostenlos. \r\n\r\n
URL;VALUE=URI:https://www.unser-ferienprogramm.de/wolfsburg/veranstaltung.php?id=314133
SUMMARY:Summerbreak 
DTSTART;TZID=Europe/Berlin:20260701T160000
END:VEVENT


BEGIN:VEVENT
DTEND;TZID=Europe/Berlin:20260702T220000
UID:69e6236faaee01
DTSTAMP:20260420T150031
LOCATION:Hollerplatz (neben dem Kunstmuseum)
DESCRIPTION:Summerbreak\r\nVom 01.07. bis zum 05.07. startet die Jugendförderung auf dem Hollerplatz (neben dem Kunstmuseum)\, mit dem „Summerbreak“ in die Sommerferien.\r\nTäglich von 16:00 Uhr bis 22:00 Uhr können Jugendliche ab 14 Jahren bei sommerlichem Flair ein buntes Angebot genießen. \r\nWer Lust hat bei einem Kaltgetränk an der Bar\, in der Sonne zu chillen\, an einem der vielen coolen Aktionen\, wie z.B. VR-Gaming oder Pizza backen teilzunehmen\, Live Musik zu genießen\, zu den Beats der DJ´ s mitzuwippen oder nette Menschen zu treffen\, ist hier genau richtig. \r\nEin Highlight in diesem Jahr\, wird u.a. das Live-Musik-Festival am 04.07. sein.\r\nDas Angebot ist (bis auf die Getränke an der Bar) kostenlos. \r\n\r\n
URL;VALUE=URI:https://www.unser-ferienprogramm.de/wolfsburg/veranstaltung.php?id=314133
SUMMARY:Summerbreak 
DTSTART;TZID=Europe/Berlin:20260702T160000
END:VEVENT


BEGIN:VEVENT
DTEND;TZID=Europe/Berlin:20260703T220000
UID:69e6236faaef12
DTSTAMP:20260420T150031
LOCATION:Hollerplatz (neben dem Kunstmuseum)
DESCRIPTION:Summerbreak\r\nVom 01.07. bis zum 05.07. startet die Jugendförderung auf dem Hollerplatz (neben dem Kunstmuseum)\, mit dem „Summerbreak“ in die Sommerferien.\r\nTäglich von 16:00 Uhr bis 22:00 Uhr können Jugendliche ab 14 Jahren bei sommerlichem Flair ein buntes Angebot genießen. \r\nWer Lust hat bei einem Kaltgetränk an der Bar\, in der Sonne zu chillen\, an einem der vielen coolen Aktionen\, wie z.B. VR-Gaming oder Pizza backen teilzunehmen\, Live Musik zu genießen\, zu den Beats der DJ´ s mitzuwippen oder nette Menschen zu treffen\, ist hier genau richtig. \r\nEin Highlight in diesem Jahr\, wird u.a. das Live-Musik-Festival am 04.07. sein.\r\nDas Angebot ist (bis auf die Getränke an der Bar) kostenlos. \r\n\r\n
URL;VALUE=URI:https://www.unser-ferienprogramm.de/wolfsburg/veranstaltung.php?id=314133
SUMMARY:Summerbreak 
DTSTART;TZID=Europe/Berlin:20260703T160000
END:VEVENT


BEGIN:VEVENT
DTEND;TZID=Europe/Berlin:20260704T220000
UID:69e6236faaeff3
DTSTAMP:20260420T150031
LOCATION:Hollerplatz (neben dem Kunstmuseum)
DESCRIPTION:Summerbreak\r\nVom 01.07. bis zum 05.07. startet die Jugendförderung auf dem Hollerplatz (neben dem Kunstmuseum)\, mit dem „Summerbreak“ in die Sommerferien.\r\nTäglich von 16:00 Uhr bis 22:00 Uhr können Jugendliche ab 14 Jahren bei sommerlichem Flair ein buntes Angebot genießen. \r\nWer Lust hat bei einem Kaltgetränk an der Bar\, in der Sonne zu chillen\, an einem der vielen coolen Aktionen\, wie z.B. VR-Gaming oder Pizza backen teilzunehmen\, Live Musik zu genießen\, zu den Beats der DJ´ s mitzuwippen oder nette Menschen zu treffen\, ist hier genau richtig. \r\nEin Highlight in diesem Jahr\, wird u.a. das Live-Musik-Festival am 04.07. sein.\r\nDas Angebot ist (bis auf die Getränke an der Bar) kostenlos. \r\n\r\n
URL;VALUE=URI:https://www.unser-ferienprogramm.de/wolfsburg/veranstaltung.php?id=314133
SUMMARY:Summerbreak 
DTSTART;TZID=Europe/Berlin:20260704T160000
END:VEVENT


BEGIN:VEVENT
DTEND;TZID=Europe/Berlin:20260705T220000
UID:69e6236faaf0c4
DTSTAMP:20260420T150031
LOCATION:Hollerplatz (neben dem Kunstmuseum)
DESCRIPTION:Summerbreak\r\nVom 01.07. bis zum 05.07. startet die Jugendförderung auf dem Hollerplatz (neben dem Kunstmuseum)\, mit dem „Summerbreak“ in die Sommerferien.\r\nTäglich von 16:00 Uhr bis 22:00 Uhr können Jugendliche ab 14 Jahren bei sommerlichem Flair ein buntes Angebot genießen. \r\nWer Lust hat bei einem Kaltgetränk an der Bar\, in der Sonne zu chillen\, an einem der vielen coolen Aktionen\, wie z.B. VR-Gaming oder Pizza backen teilzunehmen\, Live Musik zu genießen\, zu den Beats der DJ´ s mitzuwippen oder nette Menschen zu treffen\, ist hier genau richtig. \r\nEin Highlight in diesem Jahr\, wird u.a. das Live-Musik-Festival am 04.07. sein.\r\nDas Angebot ist (bis auf die Getränke an der Bar) kostenlos. \r\n\r\n
URL;VALUE=URI:https://www.unser-ferienprogramm.de/wolfsburg/veranstaltung.php?id=314133
SUMMARY:Summerbreak 
DTSTART;TZID=Europe/Berlin:20260705T160000
END:VEVENT

END:VCALENDAR
