BEGIN:VCALENDAR
VERSION:2.0
PRODID:-//hacksw/handcal//NONSGML v1.0//EN
CALSCALE:GREGORIAN
BEGIN:VTIMEZONE
TZID:Europe/Berlin
X-LIC-LOCATION:Europe/Berlin
BEGIN:DAYLIGHT
TZOFFSETFROM:+0100
TZOFFSETTO:+0200
TZNAME:CEST
DTSTART:19700329T020000
RRULE:FREQ=YEARLY;BYDAY=-1SU;BYMONTH=3
END:DAYLIGHT
BEGIN:STANDARD
TZOFFSETFROM:+0200
TZOFFSETTO:+0100
TZNAME:CET
DTSTART:19701025T030000
RRULE:FREQ=YEARLY;BYDAY=-1SU;BYMONTH=10
END:STANDARD
END:VTIMEZONE
BEGIN:VEVENT
DTEND;TZID=Europe/Berlin:20260803T133000
UID:69e6234b8c171
DTSTAMP:20260420T145955
LOCATION:Hugo-Junkers-Weg 5 (VHS 1)\, Raum S O1
DESCRIPTION:In diesem Ferienkurs erweitern die Kinder spielerisch ihre Englischkenntnisse\, lernen wird zum Abenteuer! Gemeinsam singen wir\, schauen unterhaltsame Videos\, basteln\, malen und üben Dialoge. Mit mitreißenden Liedern und bunten Aktivitäten machen wir den Unterricht lebendig. Beim Basteln und Malen entdecken sie ihre kreative Ader. Unser Kurs bietet nicht nur Spracherwerb\, sondern auch jede Menge Freude! \r\n\r\nFür Kinder von 6 bis 10 Jahren.
URL;VALUE=URI:https://www.unser-ferienprogramm.de/wolfsburg/veranstaltung.php?id=309306
SUMMARY:Summer for Kids 1
DTSTART;TZID=Europe/Berlin:20260803T090000
END:VEVENT


BEGIN:VEVENT
DTEND;TZID=Europe/Berlin:20260804T133000
UID:69e6234b8c1891
DTSTAMP:20260420T145955
LOCATION:Hugo-Junkers-Weg 5 (VHS 1)\, Raum S O1
DESCRIPTION:In diesem Ferienkurs erweitern die Kinder spielerisch ihre Englischkenntnisse\, lernen wird zum Abenteuer! Gemeinsam singen wir\, schauen unterhaltsame Videos\, basteln\, malen und üben Dialoge. Mit mitreißenden Liedern und bunten Aktivitäten machen wir den Unterricht lebendig. Beim Basteln und Malen entdecken sie ihre kreative Ader. Unser Kurs bietet nicht nur Spracherwerb\, sondern auch jede Menge Freude! \r\n\r\nFür Kinder von 6 bis 10 Jahren.
URL;VALUE=URI:https://www.unser-ferienprogramm.de/wolfsburg/veranstaltung.php?id=309306
SUMMARY:Summer for Kids 1
DTSTART;TZID=Europe/Berlin:20260804T090000
END:VEVENT


BEGIN:VEVENT
DTEND;TZID=Europe/Berlin:20260805T133000
UID:69e6234b8c1972
DTSTAMP:20260420T145955
LOCATION:Hugo-Junkers-Weg 5 (VHS 1)\, Raum S O1
DESCRIPTION:In diesem Ferienkurs erweitern die Kinder spielerisch ihre Englischkenntnisse\, lernen wird zum Abenteuer! Gemeinsam singen wir\, schauen unterhaltsame Videos\, basteln\, malen und üben Dialoge. Mit mitreißenden Liedern und bunten Aktivitäten machen wir den Unterricht lebendig. Beim Basteln und Malen entdecken sie ihre kreative Ader. Unser Kurs bietet nicht nur Spracherwerb\, sondern auch jede Menge Freude! \r\n\r\nFür Kinder von 6 bis 10 Jahren.
URL;VALUE=URI:https://www.unser-ferienprogramm.de/wolfsburg/veranstaltung.php?id=309306
SUMMARY:Summer for Kids 1
DTSTART;TZID=Europe/Berlin:20260805T090000
END:VEVENT

END:VCALENDAR
