BEGIN:VCALENDAR
VERSION:2.0
PRODID:-//hacksw/handcal//NONSGML v1.0//EN
CALSCALE:GREGORIAN
BEGIN:VTIMEZONE
TZID:Europe/Berlin
X-LIC-LOCATION:Europe/Berlin
BEGIN:DAYLIGHT
TZOFFSETFROM:+0100
TZOFFSETTO:+0200
TZNAME:CEST
DTSTART:19700329T020000
RRULE:FREQ=YEARLY;BYDAY=-1SU;BYMONTH=3
END:DAYLIGHT
BEGIN:STANDARD
TZOFFSETFROM:+0200
TZOFFSETTO:+0100
TZNAME:CET
DTSTART:19701025T030000
RRULE:FREQ=YEARLY;BYDAY=-1SU;BYMONTH=10
END:STANDARD
END:VTIMEZONE
BEGIN:VEVENT
DTEND;TZID=Europe/Berlin:20260526T170000
UID:69e624f1f28e2
DTSTAMP:20260420T150657
LOCATION:Tropical Islands\, Tropical-Islands-Allee 1\, 15910 Krausnick 
DESCRIPTION:Die Fahrt ins Tropical Island findet dieses Mal vom 25.05. bis zum 26.05.2026 statt.  Wir übernachten im Tropical Island in Zelten und das Frühstück ist inbegriffen\, für die restliche Verpflegung muss selbst gesorgt werden. Die Fahrt kostet pro Person 95\,-€\r\n\r\nRechtzeitig vor der Fahrt erhalten Sie von uns einen Elternbrief mit allen Informationen.\r\n\r\n\r\n\r\n\r\n\r\n
URL;VALUE=URI:https://www.unser-ferienprogramm.de/wolfsburg/veranstaltung.php?id=302732
SUMMARY:Fahrt ins Tropical Island
DTSTART;TZID=Europe/Berlin:20260525T120000
END:VEVENT

END:VCALENDAR
