BEGIN:VCALENDAR
VERSION:2.0
PRODID:-//hacksw/handcal//NONSGML v1.0//EN
CALSCALE:GREGORIAN
BEGIN:VTIMEZONE
TZID:Europe/Berlin
X-LIC-LOCATION:Europe/Berlin
BEGIN:DAYLIGHT
TZOFFSETFROM:+0100
TZOFFSETTO:+0200
TZNAME:CEST
DTSTART:19700329T020000
RRULE:FREQ=YEARLY;BYDAY=-1SU;BYMONTH=3
END:DAYLIGHT
BEGIN:STANDARD
TZOFFSETFROM:+0200
TZOFFSETTO:+0100
TZNAME:CET
DTSTART:19701025T030000
RRULE:FREQ=YEARLY;BYDAY=-1SU;BYMONTH=10
END:STANDARD
END:VTIMEZONE
BEGIN:VEVENT
DTEND;TZID=Europe/Berlin:20261019T160000
UID:69e62713ad1d8
DTSTAMP:20260420T151603
LOCATION:Jugendhaus ASS\, Wolfsburger Str. 4\, 38448 Wolfsburg
DESCRIPTION:Weitere Informationen folgen.\r\n
URL;VALUE=URI:https://www.unser-ferienprogramm.de/wolfsburg/veranstaltung.php?id=299716
SUMMARY:Save-The-Date! Jugendaktionswoche im ASS: Gaming-Week
DTSTART;TZID=Europe/Berlin:20261019T090000
END:VEVENT


BEGIN:VEVENT
DTEND;TZID=Europe/Berlin:20261020T160000
UID:69e62713ad21c1
DTSTAMP:20260420T151603
LOCATION:Jugendhaus ASS\, Wolfsburger Str. 4\, 38448 Wolfsburg
DESCRIPTION:Weitere Informationen folgen.\r\n
URL;VALUE=URI:https://www.unser-ferienprogramm.de/wolfsburg/veranstaltung.php?id=299716
SUMMARY:Save-The-Date! Jugendaktionswoche im ASS: Gaming-Week
DTSTART;TZID=Europe/Berlin:20261020T090000
END:VEVENT


BEGIN:VEVENT
DTEND;TZID=Europe/Berlin:20261021T160000
UID:69e62713ad2292
DTSTAMP:20260420T151603
LOCATION:Jugendhaus ASS\, Wolfsburger Str. 4\, 38448 Wolfsburg
DESCRIPTION:Weitere Informationen folgen.\r\n
URL;VALUE=URI:https://www.unser-ferienprogramm.de/wolfsburg/veranstaltung.php?id=299716
SUMMARY:Save-The-Date! Jugendaktionswoche im ASS: Gaming-Week
DTSTART;TZID=Europe/Berlin:20261021T090000
END:VEVENT


BEGIN:VEVENT
DTEND;TZID=Europe/Berlin:20261022T160000
UID:69e62713ad2333
DTSTAMP:20260420T151603
LOCATION:Jugendhaus ASS\, Wolfsburger Str. 4\, 38448 Wolfsburg
DESCRIPTION:Weitere Informationen folgen.\r\n
URL;VALUE=URI:https://www.unser-ferienprogramm.de/wolfsburg/veranstaltung.php?id=299716
SUMMARY:Save-The-Date! Jugendaktionswoche im ASS: Gaming-Week
DTSTART;TZID=Europe/Berlin:20261022T090000
END:VEVENT


BEGIN:VEVENT
DTEND;TZID=Europe/Berlin:20261023T160000
UID:69e62713ad23d4
DTSTAMP:20260420T151603
LOCATION:Jugendhaus ASS\, Wolfsburger Str. 4\, 38448 Wolfsburg
DESCRIPTION:Weitere Informationen folgen.\r\n
URL;VALUE=URI:https://www.unser-ferienprogramm.de/wolfsburg/veranstaltung.php?id=299716
SUMMARY:Save-The-Date! Jugendaktionswoche im ASS: Gaming-Week
DTSTART;TZID=Europe/Berlin:20261023T090000
END:VEVENT

END:VCALENDAR
