BEGIN:VCALENDAR
VERSION:2.0
PRODID:-//hacksw/handcal//NONSGML v1.0//EN
CALSCALE:GREGORIAN
BEGIN:VTIMEZONE
TZID:Europe/Berlin
X-LIC-LOCATION:Europe/Berlin
BEGIN:DAYLIGHT
TZOFFSETFROM:+0100
TZOFFSETTO:+0200
TZNAME:CEST
DTSTART:19700329T020000
RRULE:FREQ=YEARLY;BYDAY=-1SU;BYMONTH=3
END:DAYLIGHT
BEGIN:STANDARD
TZOFFSETFROM:+0200
TZOFFSETTO:+0100
TZNAME:CET
DTSTART:19701025T030000
RRULE:FREQ=YEARLY;BYDAY=-1SU;BYMONTH=10
END:STANDARD
END:VTIMEZONE
BEGIN:VEVENT
DTEND;TZID=Europe/Berlin:20261129T150000
UID:69e624f046083
DTSTAMP:20260420T150656
LOCATION:Almke (Wolfsburg)
DESCRIPTION:Ihr wollt eine Jugendgruppe leiten oder eine Ferienfahrt organisieren? Dann nehmt an unserer Jugendleiter*innen Ausbildung (JuleiCa) teil.\r\n\r\nUm Freizeiten\, Ferienspiele oder Kinder- und Jugendgruppen zu betreuen\, Internationale Begegnungen oder Bildungsveranstaltungen zu teamen sind umfangreiche Grundkenntnisse gefragt. Diese werden euch in unserer Grundausbildung nach den niedersächsischen Bestimmungen zur Jugendleiter*in-Card vermittelt.\r\n\r\nDas Seminar besteht aus drei Teilen\, jeweils von 16.00 Uhr am Freitag bis 15.00 Uhr am Sonntag inkl. Übernachtung an folgenden Wochenenden: 25.-27.09.2026\, 30.10.-01.11.2026\, 27.-29.11.2026 
URL;VALUE=URI:https://www.unser-ferienprogramm.de/wolfsburg/veranstaltung.php?id=296981
SUMMARY:Jugendleiter*in Ausbildung
DTSTART;TZID=Europe/Berlin:20260925T160000
END:VEVENT

END:VCALENDAR
