BEGIN:VCALENDAR
VERSION:2.0
PRODID:-//hacksw/handcal//NONSGML v1.0//EN
CALSCALE:GREGORIAN
BEGIN:VTIMEZONE
TZID:Europe/Berlin
X-LIC-LOCATION:Europe/Berlin
BEGIN:DAYLIGHT
TZOFFSETFROM:+0100
TZOFFSETTO:+0200
TZNAME:CEST
DTSTART:19700329T020000
RRULE:FREQ=YEARLY;BYDAY=-1SU;BYMONTH=3
END:DAYLIGHT
BEGIN:STANDARD
TZOFFSETFROM:+0200
TZOFFSETTO:+0100
TZNAME:CET
DTSTART:19701025T030000
RRULE:FREQ=YEARLY;BYDAY=-1SU;BYMONTH=10
END:STANDARD
END:VTIMEZONE
BEGIN:VEVENT
DTEND;TZID=Europe/Berlin:20261019T160000
UID:69e624f191531
DTSTAMP:20260420T150657
LOCATION:Bauspielplatz Westhagen
DESCRIPTION:Du möchtest aus alten Dingen Neues machen? Du möchtest kreativ werden?\r\nDann komm zu „Aus Alt mach Neu“!\r\nIhr könnt selbst entscheiden\, was ihr macht - z.B. einen Kräutergarten aus Getränkekartons bauen\, Papier schöpfen – und vieles mehr! Darüber hinaus könnt ihr natürlich den tollen Bauspielplatz zum Budenbauen\, Kettcarfahren etc. nutzen.\r\n\r\nEine Ermäßigung des Elternbeitrages ist auf Anfrage möglich. Bitte schreiben Sie uns an: ferien@stadt.wolfsburg.de
URL;VALUE=URI:https://www.unser-ferienprogramm.de/wolfsburg/veranstaltung.php?id=296714
SUMMARY:Aktionswoche "Aus Alt mach Neu" auf dem Bauspielplatz Westhagen
DTSTART;TZID=Europe/Berlin:20261019T080000
END:VEVENT


BEGIN:VEVENT
DTEND;TZID=Europe/Berlin:20261020T160000
UID:69e624f19156e1
DTSTAMP:20260420T150657
LOCATION:Bauspielplatz Westhagen
DESCRIPTION:Du möchtest aus alten Dingen Neues machen? Du möchtest kreativ werden?\r\nDann komm zu „Aus Alt mach Neu“!\r\nIhr könnt selbst entscheiden\, was ihr macht - z.B. einen Kräutergarten aus Getränkekartons bauen\, Papier schöpfen – und vieles mehr! Darüber hinaus könnt ihr natürlich den tollen Bauspielplatz zum Budenbauen\, Kettcarfahren etc. nutzen.\r\n\r\nEine Ermäßigung des Elternbeitrages ist auf Anfrage möglich. Bitte schreiben Sie uns an: ferien@stadt.wolfsburg.de
URL;VALUE=URI:https://www.unser-ferienprogramm.de/wolfsburg/veranstaltung.php?id=296714
SUMMARY:Aktionswoche "Aus Alt mach Neu" auf dem Bauspielplatz Westhagen
DTSTART;TZID=Europe/Berlin:20261020T080000
END:VEVENT


BEGIN:VEVENT
DTEND;TZID=Europe/Berlin:20261021T160000
UID:69e624f19157c2
DTSTAMP:20260420T150657
LOCATION:Bauspielplatz Westhagen
DESCRIPTION:Du möchtest aus alten Dingen Neues machen? Du möchtest kreativ werden?\r\nDann komm zu „Aus Alt mach Neu“!\r\nIhr könnt selbst entscheiden\, was ihr macht - z.B. einen Kräutergarten aus Getränkekartons bauen\, Papier schöpfen – und vieles mehr! Darüber hinaus könnt ihr natürlich den tollen Bauspielplatz zum Budenbauen\, Kettcarfahren etc. nutzen.\r\n\r\nEine Ermäßigung des Elternbeitrages ist auf Anfrage möglich. Bitte schreiben Sie uns an: ferien@stadt.wolfsburg.de
URL;VALUE=URI:https://www.unser-ferienprogramm.de/wolfsburg/veranstaltung.php?id=296714
SUMMARY:Aktionswoche "Aus Alt mach Neu" auf dem Bauspielplatz Westhagen
DTSTART;TZID=Europe/Berlin:20261021T080000
END:VEVENT


BEGIN:VEVENT
DTEND;TZID=Europe/Berlin:20261022T160000
UID:69e624f1915863
DTSTAMP:20260420T150657
LOCATION:Bauspielplatz Westhagen
DESCRIPTION:Du möchtest aus alten Dingen Neues machen? Du möchtest kreativ werden?\r\nDann komm zu „Aus Alt mach Neu“!\r\nIhr könnt selbst entscheiden\, was ihr macht - z.B. einen Kräutergarten aus Getränkekartons bauen\, Papier schöpfen – und vieles mehr! Darüber hinaus könnt ihr natürlich den tollen Bauspielplatz zum Budenbauen\, Kettcarfahren etc. nutzen.\r\n\r\nEine Ermäßigung des Elternbeitrages ist auf Anfrage möglich. Bitte schreiben Sie uns an: ferien@stadt.wolfsburg.de
URL;VALUE=URI:https://www.unser-ferienprogramm.de/wolfsburg/veranstaltung.php?id=296714
SUMMARY:Aktionswoche "Aus Alt mach Neu" auf dem Bauspielplatz Westhagen
DTSTART;TZID=Europe/Berlin:20261022T080000
END:VEVENT


BEGIN:VEVENT
DTEND;TZID=Europe/Berlin:20261023T160000
UID:69e624f1915904
DTSTAMP:20260420T150657
LOCATION:Bauspielplatz Westhagen
DESCRIPTION:Du möchtest aus alten Dingen Neues machen? Du möchtest kreativ werden?\r\nDann komm zu „Aus Alt mach Neu“!\r\nIhr könnt selbst entscheiden\, was ihr macht - z.B. einen Kräutergarten aus Getränkekartons bauen\, Papier schöpfen – und vieles mehr! Darüber hinaus könnt ihr natürlich den tollen Bauspielplatz zum Budenbauen\, Kettcarfahren etc. nutzen.\r\n\r\nEine Ermäßigung des Elternbeitrages ist auf Anfrage möglich. Bitte schreiben Sie uns an: ferien@stadt.wolfsburg.de
URL;VALUE=URI:https://www.unser-ferienprogramm.de/wolfsburg/veranstaltung.php?id=296714
SUMMARY:Aktionswoche "Aus Alt mach Neu" auf dem Bauspielplatz Westhagen
DTSTART;TZID=Europe/Berlin:20261023T080000
END:VEVENT

END:VCALENDAR
