BEGIN:VCALENDAR
VERSION:2.0
PRODID:-//hacksw/handcal//NONSGML v1.0//EN
CALSCALE:GREGORIAN
BEGIN:VTIMEZONE
TZID:Europe/Berlin
X-LIC-LOCATION:Europe/Berlin
BEGIN:DAYLIGHT
TZOFFSETFROM:+0100
TZOFFSETTO:+0200
TZNAME:CEST
DTSTART:19700329T020000
RRULE:FREQ=YEARLY;BYDAY=-1SU;BYMONTH=3
END:DAYLIGHT
BEGIN:STANDARD
TZOFFSETFROM:+0200
TZOFFSETTO:+0100
TZNAME:CET
DTSTART:19701025T030000
RRULE:FREQ=YEARLY;BYDAY=-1SU;BYMONTH=10
END:STANDARD
END:VTIMEZONE
BEGIN:VEVENT
DTEND;TZID=Europe/Berlin:20261019T160000
UID:69e627f2e16e6
DTSTAMP:20260420T151946
LOCATION:Grundschule Wohltberg (Danziger Str. 17)
DESCRIPTION:Sei dabei und genieße eine Woche voller Spaß\, Spiel und unvergesslicher Ferienabenteuer!
URL;VALUE=URI:https://www.unser-ferienprogramm.de/wolfsburg-schule/veranstaltung.php?id=312794
SUMMARY:Herbstferienprogramm 2. Woche 2026 an der Wohltbergschule
DTSTART;TZID=Europe/Berlin:20261019T080000
END:VEVENT


BEGIN:VEVENT
DTEND;TZID=Europe/Berlin:20261020T160000
UID:69e627f2e17201
DTSTAMP:20260420T151946
LOCATION:Grundschule Wohltberg (Danziger Str. 17)
DESCRIPTION:Sei dabei und genieße eine Woche voller Spaß\, Spiel und unvergesslicher Ferienabenteuer!
URL;VALUE=URI:https://www.unser-ferienprogramm.de/wolfsburg-schule/veranstaltung.php?id=312794
SUMMARY:Herbstferienprogramm 2. Woche 2026 an der Wohltbergschule
DTSTART;TZID=Europe/Berlin:20261020T080000
END:VEVENT


BEGIN:VEVENT
DTEND;TZID=Europe/Berlin:20261021T160000
UID:69e627f2e172d2
DTSTAMP:20260420T151946
LOCATION:Grundschule Wohltberg (Danziger Str. 17)
DESCRIPTION:Sei dabei und genieße eine Woche voller Spaß\, Spiel und unvergesslicher Ferienabenteuer!
URL;VALUE=URI:https://www.unser-ferienprogramm.de/wolfsburg-schule/veranstaltung.php?id=312794
SUMMARY:Herbstferienprogramm 2. Woche 2026 an der Wohltbergschule
DTSTART;TZID=Europe/Berlin:20261021T080000
END:VEVENT


BEGIN:VEVENT
DTEND;TZID=Europe/Berlin:20261022T160000
UID:69e627f2e17363
DTSTAMP:20260420T151946
LOCATION:Grundschule Wohltberg (Danziger Str. 17)
DESCRIPTION:Sei dabei und genieße eine Woche voller Spaß\, Spiel und unvergesslicher Ferienabenteuer!
URL;VALUE=URI:https://www.unser-ferienprogramm.de/wolfsburg-schule/veranstaltung.php?id=312794
SUMMARY:Herbstferienprogramm 2. Woche 2026 an der Wohltbergschule
DTSTART;TZID=Europe/Berlin:20261022T080000
END:VEVENT


BEGIN:VEVENT
DTEND;TZID=Europe/Berlin:20261023T160000
UID:69e627f2e17404
DTSTAMP:20260420T151946
LOCATION:Grundschule Wohltberg (Danziger Str. 17)
DESCRIPTION:Sei dabei und genieße eine Woche voller Spaß\, Spiel und unvergesslicher Ferienabenteuer!
URL;VALUE=URI:https://www.unser-ferienprogramm.de/wolfsburg-schule/veranstaltung.php?id=312794
SUMMARY:Herbstferienprogramm 2. Woche 2026 an der Wohltbergschule
DTSTART;TZID=Europe/Berlin:20261023T080000
END:VEVENT

END:VCALENDAR
