BEGIN:VCALENDAR
VERSION:2.0
PRODID:-//hacksw/handcal//NONSGML v1.0//EN
CALSCALE:GREGORIAN
BEGIN:VTIMEZONE
TZID:Europe/Berlin
X-LIC-LOCATION:Europe/Berlin
BEGIN:DAYLIGHT
TZOFFSETFROM:+0100
TZOFFSETTO:+0200
TZNAME:CEST
DTSTART:19700329T020000
RRULE:FREQ=YEARLY;BYDAY=-1SU;BYMONTH=3
END:DAYLIGHT
BEGIN:STANDARD
TZOFFSETFROM:+0200
TZOFFSETTO:+0100
TZNAME:CET
DTSTART:19701025T030000
RRULE:FREQ=YEARLY;BYDAY=-1SU;BYMONTH=10
END:STANDARD
END:VTIMEZONE
BEGIN:VEVENT
DTEND;TZID=Europe/Berlin:20261012T160000
UID:69e627f3b20d9
DTSTAMP:20260420T151947
LOCATION:Grundschule Wohltberg (Danziger Str. 17)
DESCRIPTION:Mach deine Ferien zu etwas Besonderem - mit einer Woche voller Spaß und Action!
URL;VALUE=URI:https://www.unser-ferienprogramm.de/wolfsburg-schule/veranstaltung.php?id=312791
SUMMARY:Herbstferienprogramm 1. Woche 2026 an der Wohltbergschule
DTSTART;TZID=Europe/Berlin:20261012T080000
END:VEVENT


BEGIN:VEVENT
DTEND;TZID=Europe/Berlin:20261013T160000
UID:69e627f3b20ec1
DTSTAMP:20260420T151947
LOCATION:Grundschule Wohltberg (Danziger Str. 17)
DESCRIPTION:Mach deine Ferien zu etwas Besonderem - mit einer Woche voller Spaß und Action!
URL;VALUE=URI:https://www.unser-ferienprogramm.de/wolfsburg-schule/veranstaltung.php?id=312791
SUMMARY:Herbstferienprogramm 1. Woche 2026 an der Wohltbergschule
DTSTART;TZID=Europe/Berlin:20261013T080000
END:VEVENT


BEGIN:VEVENT
DTEND;TZID=Europe/Berlin:20261014T160000
UID:69e627f3b20f82
DTSTAMP:20260420T151947
LOCATION:Grundschule Wohltberg (Danziger Str. 17)
DESCRIPTION:Mach deine Ferien zu etwas Besonderem - mit einer Woche voller Spaß und Action!
URL;VALUE=URI:https://www.unser-ferienprogramm.de/wolfsburg-schule/veranstaltung.php?id=312791
SUMMARY:Herbstferienprogramm 1. Woche 2026 an der Wohltbergschule
DTSTART;TZID=Europe/Berlin:20261014T080000
END:VEVENT


BEGIN:VEVENT
DTEND;TZID=Europe/Berlin:20261015T160000
UID:69e627f3b21013
DTSTAMP:20260420T151947
LOCATION:Grundschule Wohltberg (Danziger Str. 17)
DESCRIPTION:Mach deine Ferien zu etwas Besonderem - mit einer Woche voller Spaß und Action!
URL;VALUE=URI:https://www.unser-ferienprogramm.de/wolfsburg-schule/veranstaltung.php?id=312791
SUMMARY:Herbstferienprogramm 1. Woche 2026 an der Wohltbergschule
DTSTART;TZID=Europe/Berlin:20261015T080000
END:VEVENT


BEGIN:VEVENT
DTEND;TZID=Europe/Berlin:20261016T160000
UID:69e627f3b210b4
DTSTAMP:20260420T151947
LOCATION:Grundschule Wohltberg (Danziger Str. 17)
DESCRIPTION:Mach deine Ferien zu etwas Besonderem - mit einer Woche voller Spaß und Action!
URL;VALUE=URI:https://www.unser-ferienprogramm.de/wolfsburg-schule/veranstaltung.php?id=312791
SUMMARY:Herbstferienprogramm 1. Woche 2026 an der Wohltbergschule
DTSTART;TZID=Europe/Berlin:20261016T080000
END:VEVENT

END:VCALENDAR
