BEGIN:VCALENDAR
VERSION:2.0
PRODID:-//hacksw/handcal//NONSGML v1.0//EN
CALSCALE:GREGORIAN
BEGIN:VTIMEZONE
TZID:Europe/Berlin
X-LIC-LOCATION:Europe/Berlin
BEGIN:DAYLIGHT
TZOFFSETFROM:+0100
TZOFFSETTO:+0200
TZNAME:CEST
DTSTART:19700329T020000
RRULE:FREQ=YEARLY;BYDAY=-1SU;BYMONTH=3
END:DAYLIGHT
BEGIN:STANDARD
TZOFFSETFROM:+0200
TZOFFSETTO:+0100
TZNAME:CET
DTSTART:19701025T030000
RRULE:FREQ=YEARLY;BYDAY=-1SU;BYMONTH=10
END:STANDARD
END:VTIMEZONE
BEGIN:VEVENT
DTEND;TZID=Europe/Berlin:20260713T160000
UID:69e60ed6d2ce3
DTSTAMP:20260420T133238
LOCATION:Grundschule Wohltberg (Danziger Str. 17)
DESCRIPTION:Freu dich auf eine Woche voller Abenteuer\, Spiele und toller Ergebnisse!
URL;VALUE=URI:https://www.unser-ferienprogramm.de/wolfsburg-schule/veranstaltung.php?id=312787
SUMMARY:Sommerferienprogramm 2. Woche 2026 an der Wohltbergschule
DTSTART;TZID=Europe/Berlin:20260713T080000
END:VEVENT


BEGIN:VEVENT
DTEND;TZID=Europe/Berlin:20260714T160000
UID:69e60ed6d2d221
DTSTAMP:20260420T133238
LOCATION:Grundschule Wohltberg (Danziger Str. 17)
DESCRIPTION:Freu dich auf eine Woche voller Abenteuer\, Spiele und toller Ergebnisse!
URL;VALUE=URI:https://www.unser-ferienprogramm.de/wolfsburg-schule/veranstaltung.php?id=312787
SUMMARY:Sommerferienprogramm 2. Woche 2026 an der Wohltbergschule
DTSTART;TZID=Europe/Berlin:20260714T080000
END:VEVENT


BEGIN:VEVENT
DTEND;TZID=Europe/Berlin:20260715T160000
UID:69e60ed6d2d2f2
DTSTAMP:20260420T133238
LOCATION:Grundschule Wohltberg (Danziger Str. 17)
DESCRIPTION:Freu dich auf eine Woche voller Abenteuer\, Spiele und toller Ergebnisse!
URL;VALUE=URI:https://www.unser-ferienprogramm.de/wolfsburg-schule/veranstaltung.php?id=312787
SUMMARY:Sommerferienprogramm 2. Woche 2026 an der Wohltbergschule
DTSTART;TZID=Europe/Berlin:20260715T080000
END:VEVENT


BEGIN:VEVENT
DTEND;TZID=Europe/Berlin:20260716T160000
UID:69e60ed6d2d383
DTSTAMP:20260420T133238
LOCATION:Grundschule Wohltberg (Danziger Str. 17)
DESCRIPTION:Freu dich auf eine Woche voller Abenteuer\, Spiele und toller Ergebnisse!
URL;VALUE=URI:https://www.unser-ferienprogramm.de/wolfsburg-schule/veranstaltung.php?id=312787
SUMMARY:Sommerferienprogramm 2. Woche 2026 an der Wohltbergschule
DTSTART;TZID=Europe/Berlin:20260716T080000
END:VEVENT


BEGIN:VEVENT
DTEND;TZID=Europe/Berlin:20260717T160000
UID:69e60ed6d2d424
DTSTAMP:20260420T133238
LOCATION:Grundschule Wohltberg (Danziger Str. 17)
DESCRIPTION:Freu dich auf eine Woche voller Abenteuer\, Spiele und toller Ergebnisse!
URL;VALUE=URI:https://www.unser-ferienprogramm.de/wolfsburg-schule/veranstaltung.php?id=312787
SUMMARY:Sommerferienprogramm 2. Woche 2026 an der Wohltbergschule
DTSTART;TZID=Europe/Berlin:20260717T080000
END:VEVENT

END:VCALENDAR
