BEGIN:VCALENDAR
VERSION:2.0
PRODID:-//hacksw/handcal//NONSGML v1.0//EN
CALSCALE:GREGORIAN
BEGIN:VTIMEZONE
TZID:Europe/Berlin
X-LIC-LOCATION:Europe/Berlin
BEGIN:DAYLIGHT
TZOFFSETFROM:+0100
TZOFFSETTO:+0200
TZNAME:CEST
DTSTART:19700329T020000
RRULE:FREQ=YEARLY;BYDAY=-1SU;BYMONTH=3
END:DAYLIGHT
BEGIN:STANDARD
TZOFFSETFROM:+0200
TZOFFSETTO:+0100
TZNAME:CET
DTSTART:19701025T030000
RRULE:FREQ=YEARLY;BYDAY=-1SU;BYMONTH=10
END:STANDARD
END:VTIMEZONE
BEGIN:VEVENT
DTEND;TZID=Europe/Berlin:20260706T160000
UID:69e60ed575372
DTSTAMP:20260420T133237
LOCATION:Grundschule Wohltberg (Danziger Str. 17)
DESCRIPTION:Erlebe eine bunte Ferienwoche voller Action\, Kreativität und guter Laune!
URL;VALUE=URI:https://www.unser-ferienprogramm.de/wolfsburg-schule/veranstaltung.php?id=312762
SUMMARY:Sommerferienprogramm 1. Woche 2026 an der Wohltbergschule
DTSTART;TZID=Europe/Berlin:20260706T080000
END:VEVENT


BEGIN:VEVENT
DTEND;TZID=Europe/Berlin:20260707T160000
UID:69e60ed5753ae1
DTSTAMP:20260420T133237
LOCATION:Grundschule Wohltberg (Danziger Str. 17)
DESCRIPTION:Erlebe eine bunte Ferienwoche voller Action\, Kreativität und guter Laune!
URL;VALUE=URI:https://www.unser-ferienprogramm.de/wolfsburg-schule/veranstaltung.php?id=312762
SUMMARY:Sommerferienprogramm 1. Woche 2026 an der Wohltbergschule
DTSTART;TZID=Europe/Berlin:20260707T080000
END:VEVENT


BEGIN:VEVENT
DTEND;TZID=Europe/Berlin:20260708T160000
UID:69e60ed5753bb2
DTSTAMP:20260420T133237
LOCATION:Grundschule Wohltberg (Danziger Str. 17)
DESCRIPTION:Erlebe eine bunte Ferienwoche voller Action\, Kreativität und guter Laune!
URL;VALUE=URI:https://www.unser-ferienprogramm.de/wolfsburg-schule/veranstaltung.php?id=312762
SUMMARY:Sommerferienprogramm 1. Woche 2026 an der Wohltbergschule
DTSTART;TZID=Europe/Berlin:20260708T080000
END:VEVENT


BEGIN:VEVENT
DTEND;TZID=Europe/Berlin:20260709T160000
UID:69e60ed5753c43
DTSTAMP:20260420T133237
LOCATION:Grundschule Wohltberg (Danziger Str. 17)
DESCRIPTION:Erlebe eine bunte Ferienwoche voller Action\, Kreativität und guter Laune!
URL;VALUE=URI:https://www.unser-ferienprogramm.de/wolfsburg-schule/veranstaltung.php?id=312762
SUMMARY:Sommerferienprogramm 1. Woche 2026 an der Wohltbergschule
DTSTART;TZID=Europe/Berlin:20260709T080000
END:VEVENT


BEGIN:VEVENT
DTEND;TZID=Europe/Berlin:20260710T160000
UID:69e60ed5753cf4
DTSTAMP:20260420T133237
LOCATION:Grundschule Wohltberg (Danziger Str. 17)
DESCRIPTION:Erlebe eine bunte Ferienwoche voller Action\, Kreativität und guter Laune!
URL;VALUE=URI:https://www.unser-ferienprogramm.de/wolfsburg-schule/veranstaltung.php?id=312762
SUMMARY:Sommerferienprogramm 1. Woche 2026 an der Wohltbergschule
DTSTART;TZID=Europe/Berlin:20260710T080000
END:VEVENT

END:VCALENDAR
