BEGIN:VCALENDAR
VERSION:2.0
PRODID:-//hacksw/handcal//NONSGML v1.0//EN
CALSCALE:GREGORIAN
BEGIN:VTIMEZONE
TZID:Europe/Berlin
X-LIC-LOCATION:Europe/Berlin
BEGIN:DAYLIGHT
TZOFFSETFROM:+0100
TZOFFSETTO:+0200
TZNAME:CEST
DTSTART:19700329T020000
RRULE:FREQ=YEARLY;BYDAY=-1SU;BYMONTH=3
END:DAYLIGHT
BEGIN:STANDARD
TZOFFSETFROM:+0200
TZOFFSETTO:+0100
TZNAME:CET
DTSTART:19701025T030000
RRULE:FREQ=YEARLY;BYDAY=-1SU;BYMONTH=10
END:STANDARD
END:VTIMEZONE
BEGIN:VEVENT
DTEND;TZID=Europe/Berlin:20261019T080000
UID:69e62913a78bc
DTSTAMP:20260420T152435
LOCATION:Waldschule Eichelkamp
DESCRIPTION:
URL;VALUE=URI:https://www.unser-ferienprogramm.de/wolfsburg-schule/veranstaltung.php?id=302664
SUMMARY:Frühdienst (07:30 - 08:00) "Schule der Magie" an der Waldschule Eichelkamp 
DTSTART;TZID=Europe/Berlin:20261019T073000
END:VEVENT


BEGIN:VEVENT
DTEND;TZID=Europe/Berlin:20261020T080000
UID:69e62913a790b1
DTSTAMP:20260420T152435
LOCATION:Waldschule Eichelkamp
DESCRIPTION:
URL;VALUE=URI:https://www.unser-ferienprogramm.de/wolfsburg-schule/veranstaltung.php?id=302664
SUMMARY:Frühdienst (07:30 - 08:00) "Schule der Magie" an der Waldschule Eichelkamp 
DTSTART;TZID=Europe/Berlin:20261020T073000
END:VEVENT


BEGIN:VEVENT
DTEND;TZID=Europe/Berlin:20261021T080000
UID:69e62913a79162
DTSTAMP:20260420T152435
LOCATION:Waldschule Eichelkamp
DESCRIPTION:
URL;VALUE=URI:https://www.unser-ferienprogramm.de/wolfsburg-schule/veranstaltung.php?id=302664
SUMMARY:Frühdienst (07:30 - 08:00) "Schule der Magie" an der Waldschule Eichelkamp 
DTSTART;TZID=Europe/Berlin:20261021T073000
END:VEVENT


BEGIN:VEVENT
DTEND;TZID=Europe/Berlin:20261022T080000
UID:69e62913a791f3
DTSTAMP:20260420T152435
LOCATION:Waldschule Eichelkamp
DESCRIPTION:
URL;VALUE=URI:https://www.unser-ferienprogramm.de/wolfsburg-schule/veranstaltung.php?id=302664
SUMMARY:Frühdienst (07:30 - 08:00) "Schule der Magie" an der Waldschule Eichelkamp 
DTSTART;TZID=Europe/Berlin:20261022T073000
END:VEVENT


BEGIN:VEVENT
DTEND;TZID=Europe/Berlin:20261023T080000
UID:69e62913a79284
DTSTAMP:20260420T152435
LOCATION:Waldschule Eichelkamp
DESCRIPTION:
URL;VALUE=URI:https://www.unser-ferienprogramm.de/wolfsburg-schule/veranstaltung.php?id=302664
SUMMARY:Frühdienst (07:30 - 08:00) "Schule der Magie" an der Waldschule Eichelkamp 
DTSTART;TZID=Europe/Berlin:20261023T073000
END:VEVENT

END:VCALENDAR
