BEGIN:VCALENDAR
VERSION:2.0
PRODID:-//hacksw/handcal//NONSGML v1.0//EN
CALSCALE:GREGORIAN
BEGIN:VTIMEZONE
TZID:Europe/Berlin
X-LIC-LOCATION:Europe/Berlin
BEGIN:DAYLIGHT
TZOFFSETFROM:+0100
TZOFFSETTO:+0200
TZNAME:CEST
DTSTART:19700329T020000
RRULE:FREQ=YEARLY;BYDAY=-1SU;BYMONTH=3
END:DAYLIGHT
BEGIN:STANDARD
TZOFFSETFROM:+0200
TZOFFSETTO:+0100
TZNAME:CET
DTSTART:19701025T030000
RRULE:FREQ=YEARLY;BYDAY=-1SU;BYMONTH=10
END:STANDARD
END:VTIMEZONE
BEGIN:VEVENT
DTEND;TZID=Europe/Berlin:20261012T080000
UID:69e62949b6c6c
DTSTAMP:20260420T152529
LOCATION:Waldschule Eichelkamp
DESCRIPTION:
URL;VALUE=URI:https://www.unser-ferienprogramm.de/wolfsburg-schule/veranstaltung.php?id=302655
SUMMARY:Frühdienst (07:30 - 08:00) "Schule der Magie" an der Waldschule Eichelkamp 
DTSTART;TZID=Europe/Berlin:20261012T073000
END:VEVENT


BEGIN:VEVENT
DTEND;TZID=Europe/Berlin:20261013T080000
UID:69e62949b6c811
DTSTAMP:20260420T152529
LOCATION:Waldschule Eichelkamp
DESCRIPTION:
URL;VALUE=URI:https://www.unser-ferienprogramm.de/wolfsburg-schule/veranstaltung.php?id=302655
SUMMARY:Frühdienst (07:30 - 08:00) "Schule der Magie" an der Waldschule Eichelkamp 
DTSTART;TZID=Europe/Berlin:20261013T073000
END:VEVENT


BEGIN:VEVENT
DTEND;TZID=Europe/Berlin:20261014T080000
UID:69e62949b6c8c2
DTSTAMP:20260420T152529
LOCATION:Waldschule Eichelkamp
DESCRIPTION:
URL;VALUE=URI:https://www.unser-ferienprogramm.de/wolfsburg-schule/veranstaltung.php?id=302655
SUMMARY:Frühdienst (07:30 - 08:00) "Schule der Magie" an der Waldschule Eichelkamp 
DTSTART;TZID=Europe/Berlin:20261014T073000
END:VEVENT


BEGIN:VEVENT
DTEND;TZID=Europe/Berlin:20261015T080000
UID:69e62949b6c953
DTSTAMP:20260420T152529
LOCATION:Waldschule Eichelkamp
DESCRIPTION:
URL;VALUE=URI:https://www.unser-ferienprogramm.de/wolfsburg-schule/veranstaltung.php?id=302655
SUMMARY:Frühdienst (07:30 - 08:00) "Schule der Magie" an der Waldschule Eichelkamp 
DTSTART;TZID=Europe/Berlin:20261015T073000
END:VEVENT


BEGIN:VEVENT
DTEND;TZID=Europe/Berlin:20261016T080000
UID:69e62949b6c9e4
DTSTAMP:20260420T152529
LOCATION:Waldschule Eichelkamp
DESCRIPTION:
URL;VALUE=URI:https://www.unser-ferienprogramm.de/wolfsburg-schule/veranstaltung.php?id=302655
SUMMARY:Frühdienst (07:30 - 08:00) "Schule der Magie" an der Waldschule Eichelkamp 
DTSTART;TZID=Europe/Berlin:20261016T073000
END:VEVENT

END:VCALENDAR
