BEGIN:VCALENDAR
VERSION:2.0
PRODID:-//hacksw/handcal//NONSGML v1.0//EN
CALSCALE:GREGORIAN
BEGIN:VTIMEZONE
TZID:Europe/Berlin
X-LIC-LOCATION:Europe/Berlin
BEGIN:DAYLIGHT
TZOFFSETFROM:+0100
TZOFFSETTO:+0200
TZNAME:CEST
DTSTART:19700329T020000
RRULE:FREQ=YEARLY;BYDAY=-1SU;BYMONTH=3
END:DAYLIGHT
BEGIN:STANDARD
TZOFFSETFROM:+0200
TZOFFSETTO:+0100
TZNAME:CET
DTSTART:19701025T030000
RRULE:FREQ=YEARLY;BYDAY=-1SU;BYMONTH=10
END:STANDARD
END:VTIMEZONE
BEGIN:VEVENT
DTEND;TZID=Europe/Berlin:20261012T080000
UID:69e629137f26f
DTSTAMP:20260420T152435
LOCATION:Waldschule Eichelkamp
DESCRIPTION:
URL;VALUE=URI:https://www.unser-ferienprogramm.de/wolfsburg-schule/veranstaltung.php?id=302652
SUMMARY:Frühdienst (07:00 - 08:00) "Schule der Magie" an der Waldschule Eichelkamp 
DTSTART;TZID=Europe/Berlin:20261012T070000
END:VEVENT


BEGIN:VEVENT
DTEND;TZID=Europe/Berlin:20261013T080000
UID:69e629137f2861
DTSTAMP:20260420T152435
LOCATION:Waldschule Eichelkamp
DESCRIPTION:
URL;VALUE=URI:https://www.unser-ferienprogramm.de/wolfsburg-schule/veranstaltung.php?id=302652
SUMMARY:Frühdienst (07:00 - 08:00) "Schule der Magie" an der Waldschule Eichelkamp 
DTSTART;TZID=Europe/Berlin:20261013T070000
END:VEVENT


BEGIN:VEVENT
DTEND;TZID=Europe/Berlin:20261014T080000
UID:69e629137f2912
DTSTAMP:20260420T152435
LOCATION:Waldschule Eichelkamp
DESCRIPTION:
URL;VALUE=URI:https://www.unser-ferienprogramm.de/wolfsburg-schule/veranstaltung.php?id=302652
SUMMARY:Frühdienst (07:00 - 08:00) "Schule der Magie" an der Waldschule Eichelkamp 
DTSTART;TZID=Europe/Berlin:20261014T070000
END:VEVENT


BEGIN:VEVENT
DTEND;TZID=Europe/Berlin:20261015T080000
UID:69e629137f29a3
DTSTAMP:20260420T152435
LOCATION:Waldschule Eichelkamp
DESCRIPTION:
URL;VALUE=URI:https://www.unser-ferienprogramm.de/wolfsburg-schule/veranstaltung.php?id=302652
SUMMARY:Frühdienst (07:00 - 08:00) "Schule der Magie" an der Waldschule Eichelkamp 
DTSTART;TZID=Europe/Berlin:20261015T070000
END:VEVENT


BEGIN:VEVENT
DTEND;TZID=Europe/Berlin:20261016T080000
UID:69e629137f2a34
DTSTAMP:20260420T152435
LOCATION:Waldschule Eichelkamp
DESCRIPTION:
URL;VALUE=URI:https://www.unser-ferienprogramm.de/wolfsburg-schule/veranstaltung.php?id=302652
SUMMARY:Frühdienst (07:00 - 08:00) "Schule der Magie" an der Waldschule Eichelkamp 
DTSTART;TZID=Europe/Berlin:20261016T070000
END:VEVENT

END:VCALENDAR
