BEGIN:VCALENDAR
VERSION:2.0
PRODID:-//hacksw/handcal//NONSGML v1.0//EN
CALSCALE:GREGORIAN
BEGIN:VTIMEZONE
TZID:Europe/Berlin
X-LIC-LOCATION:Europe/Berlin
BEGIN:DAYLIGHT
TZOFFSETFROM:+0100
TZOFFSETTO:+0200
TZNAME:CEST
DTSTART:19700329T020000
RRULE:FREQ=YEARLY;BYDAY=-1SU;BYMONTH=3
END:DAYLIGHT
BEGIN:STANDARD
TZOFFSETFROM:+0200
TZOFFSETTO:+0100
TZNAME:CET
DTSTART:19701025T030000
RRULE:FREQ=YEARLY;BYDAY=-1SU;BYMONTH=10
END:STANDARD
END:VTIMEZONE
BEGIN:VEVENT
DTEND;TZID=Europe/Berlin:20261012T170000
UID:69e62914bfbac
DTSTAMP:20260420T152436
LOCATION:Waldschule Eichelkamp
DESCRIPTION:Die verlässliche ganztägige Herbstferienwoche organisiert der ev.-luth. Kirchenkreis Wolfsburg-Wittingen in Kooperation mit dem Geschäftsbereich Schule der Stadt Wolfsburg. \r\n\r\nDas Programm der Herbstferien 2026 steht unter dem spannenden Motto "Die Schule der Magie"\r\n\r\n
URL;VALUE=URI:https://www.unser-ferienprogramm.de/wolfsburg-schule/veranstaltung.php?id=302647
SUMMARY:Herbstferien "Schule der Magie" an der Waldschule Eichelkamp 
DTSTART;TZID=Europe/Berlin:20261012T080000
END:VEVENT


BEGIN:VEVENT
DTEND;TZID=Europe/Berlin:20261013T170000
UID:69e62914bfbe31
DTSTAMP:20260420T152436
LOCATION:Waldschule Eichelkamp
DESCRIPTION:Die verlässliche ganztägige Herbstferienwoche organisiert der ev.-luth. Kirchenkreis Wolfsburg-Wittingen in Kooperation mit dem Geschäftsbereich Schule der Stadt Wolfsburg. \r\n\r\nDas Programm der Herbstferien 2026 steht unter dem spannenden Motto "Die Schule der Magie"\r\n\r\n
URL;VALUE=URI:https://www.unser-ferienprogramm.de/wolfsburg-schule/veranstaltung.php?id=302647
SUMMARY:Herbstferien "Schule der Magie" an der Waldschule Eichelkamp 
DTSTART;TZID=Europe/Berlin:20261013T080000
END:VEVENT


BEGIN:VEVENT
DTEND;TZID=Europe/Berlin:20261014T170000
UID:69e62914bfbef2
DTSTAMP:20260420T152436
LOCATION:Waldschule Eichelkamp
DESCRIPTION:Die verlässliche ganztägige Herbstferienwoche organisiert der ev.-luth. Kirchenkreis Wolfsburg-Wittingen in Kooperation mit dem Geschäftsbereich Schule der Stadt Wolfsburg. \r\n\r\nDas Programm der Herbstferien 2026 steht unter dem spannenden Motto "Die Schule der Magie"\r\n\r\n
URL;VALUE=URI:https://www.unser-ferienprogramm.de/wolfsburg-schule/veranstaltung.php?id=302647
SUMMARY:Herbstferien "Schule der Magie" an der Waldschule Eichelkamp 
DTSTART;TZID=Europe/Berlin:20261014T080000
END:VEVENT


BEGIN:VEVENT
DTEND;TZID=Europe/Berlin:20261015T170000
UID:69e62914bfbfa3
DTSTAMP:20260420T152436
LOCATION:Waldschule Eichelkamp
DESCRIPTION:Die verlässliche ganztägige Herbstferienwoche organisiert der ev.-luth. Kirchenkreis Wolfsburg-Wittingen in Kooperation mit dem Geschäftsbereich Schule der Stadt Wolfsburg. \r\n\r\nDas Programm der Herbstferien 2026 steht unter dem spannenden Motto "Die Schule der Magie"\r\n\r\n
URL;VALUE=URI:https://www.unser-ferienprogramm.de/wolfsburg-schule/veranstaltung.php?id=302647
SUMMARY:Herbstferien "Schule der Magie" an der Waldschule Eichelkamp 
DTSTART;TZID=Europe/Berlin:20261015T080000
END:VEVENT


BEGIN:VEVENT
DTEND;TZID=Europe/Berlin:20261016T170000
UID:69e62914bfc034
DTSTAMP:20260420T152436
LOCATION:Waldschule Eichelkamp
DESCRIPTION:Die verlässliche ganztägige Herbstferienwoche organisiert der ev.-luth. Kirchenkreis Wolfsburg-Wittingen in Kooperation mit dem Geschäftsbereich Schule der Stadt Wolfsburg. \r\n\r\nDas Programm der Herbstferien 2026 steht unter dem spannenden Motto "Die Schule der Magie"\r\n\r\n
URL;VALUE=URI:https://www.unser-ferienprogramm.de/wolfsburg-schule/veranstaltung.php?id=302647
SUMMARY:Herbstferien "Schule der Magie" an der Waldschule Eichelkamp 
DTSTART;TZID=Europe/Berlin:20261016T080000
END:VEVENT

END:VCALENDAR
