BEGIN:VCALENDAR
VERSION:2.0
PRODID:-//hacksw/handcal//NONSGML v1.0//EN
CALSCALE:GREGORIAN
BEGIN:VTIMEZONE
TZID:Europe/Berlin
X-LIC-LOCATION:Europe/Berlin
BEGIN:DAYLIGHT
TZOFFSETFROM:+0100
TZOFFSETTO:+0200
TZNAME:CEST
DTSTART:19700329T020000
RRULE:FREQ=YEARLY;BYDAY=-1SU;BYMONTH=3
END:DAYLIGHT
BEGIN:STANDARD
TZOFFSETFROM:+0200
TZOFFSETTO:+0100
TZNAME:CET
DTSTART:19701025T030000
RRULE:FREQ=YEARLY;BYDAY=-1SU;BYMONTH=10
END:STANDARD
END:VTIMEZONE
BEGIN:VEVENT
DTEND;TZID=Europe/Berlin:20260810T080000
UID:69e62947cc45b
DTSTAMP:20260420T152527
LOCATION:Waldschule Eichelkamp
DESCRIPTION:
URL;VALUE=URI:https://www.unser-ferienprogramm.de/wolfsburg-schule/veranstaltung.php?id=302643
SUMMARY:Frühdienst (07:30 - 08:00) "Sommerzeit\, wir tanken Energie" an der Waldschule Eichelkamp 
DTSTART;TZID=Europe/Berlin:20260810T073000
END:VEVENT


BEGIN:VEVENT
DTEND;TZID=Europe/Berlin:20260811T080000
UID:69e62947cc4981
DTSTAMP:20260420T152527
LOCATION:Waldschule Eichelkamp
DESCRIPTION:
URL;VALUE=URI:https://www.unser-ferienprogramm.de/wolfsburg-schule/veranstaltung.php?id=302643
SUMMARY:Frühdienst (07:30 - 08:00) "Sommerzeit\, wir tanken Energie" an der Waldschule Eichelkamp 
DTSTART;TZID=Europe/Berlin:20260811T073000
END:VEVENT


BEGIN:VEVENT
DTEND;TZID=Europe/Berlin:20260812T080000
UID:69e62947cc4a42
DTSTAMP:20260420T152527
LOCATION:Waldschule Eichelkamp
DESCRIPTION:
URL;VALUE=URI:https://www.unser-ferienprogramm.de/wolfsburg-schule/veranstaltung.php?id=302643
SUMMARY:Frühdienst (07:30 - 08:00) "Sommerzeit\, wir tanken Energie" an der Waldschule Eichelkamp 
DTSTART;TZID=Europe/Berlin:20260812T073000
END:VEVENT

END:VCALENDAR
