BEGIN:VCALENDAR
VERSION:2.0
PRODID:-//hacksw/handcal//NONSGML v1.0//EN
CALSCALE:GREGORIAN
BEGIN:VTIMEZONE
TZID:Europe/Berlin
X-LIC-LOCATION:Europe/Berlin
BEGIN:DAYLIGHT
TZOFFSETFROM:+0100
TZOFFSETTO:+0200
TZNAME:CEST
DTSTART:19700329T020000
RRULE:FREQ=YEARLY;BYDAY=-1SU;BYMONTH=3
END:DAYLIGHT
BEGIN:STANDARD
TZOFFSETFROM:+0200
TZOFFSETTO:+0100
TZNAME:CET
DTSTART:19701025T030000
RRULE:FREQ=YEARLY;BYDAY=-1SU;BYMONTH=10
END:STANDARD
END:VTIMEZONE
BEGIN:VEVENT
DTEND;TZID=Europe/Berlin:20260713T080000
UID:69e6103be25b6
DTSTAMP:20260420T133835
LOCATION:Waldschule Eichelkamp
DESCRIPTION:
URL;VALUE=URI:https://www.unser-ferienprogramm.de/wolfsburg-schule/veranstaltung.php?id=302620
SUMMARY:Frühdienst (07:00 - 08:00) "Sommerzeit\, wir tanken Energie" an der Waldschule Eichelkamp 
DTSTART;TZID=Europe/Berlin:20260713T070000
END:VEVENT


BEGIN:VEVENT
DTEND;TZID=Europe/Berlin:20260714T080000
UID:69e6103be25ce1
DTSTAMP:20260420T133835
LOCATION:Waldschule Eichelkamp
DESCRIPTION:
URL;VALUE=URI:https://www.unser-ferienprogramm.de/wolfsburg-schule/veranstaltung.php?id=302620
SUMMARY:Frühdienst (07:00 - 08:00) "Sommerzeit\, wir tanken Energie" an der Waldschule Eichelkamp 
DTSTART;TZID=Europe/Berlin:20260714T070000
END:VEVENT


BEGIN:VEVENT
DTEND;TZID=Europe/Berlin:20260715T080000
UID:69e6103be25db2
DTSTAMP:20260420T133835
LOCATION:Waldschule Eichelkamp
DESCRIPTION:
URL;VALUE=URI:https://www.unser-ferienprogramm.de/wolfsburg-schule/veranstaltung.php?id=302620
SUMMARY:Frühdienst (07:00 - 08:00) "Sommerzeit\, wir tanken Energie" an der Waldschule Eichelkamp 
DTSTART;TZID=Europe/Berlin:20260715T070000
END:VEVENT


BEGIN:VEVENT
DTEND;TZID=Europe/Berlin:20260716T080000
UID:69e6103be25e53
DTSTAMP:20260420T133835
LOCATION:Waldschule Eichelkamp
DESCRIPTION:
URL;VALUE=URI:https://www.unser-ferienprogramm.de/wolfsburg-schule/veranstaltung.php?id=302620
SUMMARY:Frühdienst (07:00 - 08:00) "Sommerzeit\, wir tanken Energie" an der Waldschule Eichelkamp 
DTSTART;TZID=Europe/Berlin:20260716T070000
END:VEVENT


BEGIN:VEVENT
DTEND;TZID=Europe/Berlin:20260717T080000
UID:69e6103be25ee4
DTSTAMP:20260420T133835
LOCATION:Waldschule Eichelkamp
DESCRIPTION:
URL;VALUE=URI:https://www.unser-ferienprogramm.de/wolfsburg-schule/veranstaltung.php?id=302620
SUMMARY:Frühdienst (07:00 - 08:00) "Sommerzeit\, wir tanken Energie" an der Waldschule Eichelkamp 
DTSTART;TZID=Europe/Berlin:20260717T070000
END:VEVENT

END:VCALENDAR
