BEGIN:VCALENDAR
VERSION:2.0
PRODID:-//hacksw/handcal//NONSGML v1.0//EN
CALSCALE:GREGORIAN
BEGIN:VTIMEZONE
TZID:Europe/Berlin
X-LIC-LOCATION:Europe/Berlin
BEGIN:DAYLIGHT
TZOFFSETFROM:+0100
TZOFFSETTO:+0200
TZNAME:CEST
DTSTART:19700329T020000
RRULE:FREQ=YEARLY;BYDAY=-1SU;BYMONTH=3
END:DAYLIGHT
BEGIN:STANDARD
TZOFFSETFROM:+0200
TZOFFSETTO:+0100
TZNAME:CET
DTSTART:19701025T030000
RRULE:FREQ=YEARLY;BYDAY=-1SU;BYMONTH=10
END:STANDARD
END:VTIMEZONE
BEGIN:VEVENT
DTEND;TZID=Europe/Berlin:20260713T170000
UID:69e6103c1bbcf
DTSTAMP:20260420T133836
LOCATION:Waldschule Eichelkamp
DESCRIPTION:Die verlässliche ganztägige Sommerferienwoche organisiert der ev.-luth. Kirchenkreis Wolfsburg-Wittingen in Kooperation mit dem Geschäftsbereich Schule der Stadt Wolfsburg. \r\n\r\nDas Programm der Sommerferien 2026 steht unter dem spannenden Motto "Sommerzeit\, wir tanken Energie"\r\n\r\nBei geringer Anmeldezahl kann eine Zusammenlegung mit einer ähnlichen Veranstaltung erfolgen.
URL;VALUE=URI:https://www.unser-ferienprogramm.de/wolfsburg-schule/veranstaltung.php?id=302619
SUMMARY:Sommerferien "Sommerzeit\, wir tanken Energie" an der Waldschule Eichelkamp 
DTSTART;TZID=Europe/Berlin:20260713T080000
END:VEVENT


BEGIN:VEVENT
DTEND;TZID=Europe/Berlin:20260714T170000
UID:69e6103c1bbe71
DTSTAMP:20260420T133836
LOCATION:Waldschule Eichelkamp
DESCRIPTION:Die verlässliche ganztägige Sommerferienwoche organisiert der ev.-luth. Kirchenkreis Wolfsburg-Wittingen in Kooperation mit dem Geschäftsbereich Schule der Stadt Wolfsburg. \r\n\r\nDas Programm der Sommerferien 2026 steht unter dem spannenden Motto "Sommerzeit\, wir tanken Energie"\r\n\r\nBei geringer Anmeldezahl kann eine Zusammenlegung mit einer ähnlichen Veranstaltung erfolgen.
URL;VALUE=URI:https://www.unser-ferienprogramm.de/wolfsburg-schule/veranstaltung.php?id=302619
SUMMARY:Sommerferien "Sommerzeit\, wir tanken Energie" an der Waldschule Eichelkamp 
DTSTART;TZID=Europe/Berlin:20260714T080000
END:VEVENT


BEGIN:VEVENT
DTEND;TZID=Europe/Berlin:20260715T170000
UID:69e6103c1bbf52
DTSTAMP:20260420T133836
LOCATION:Waldschule Eichelkamp
DESCRIPTION:Die verlässliche ganztägige Sommerferienwoche organisiert der ev.-luth. Kirchenkreis Wolfsburg-Wittingen in Kooperation mit dem Geschäftsbereich Schule der Stadt Wolfsburg. \r\n\r\nDas Programm der Sommerferien 2026 steht unter dem spannenden Motto "Sommerzeit\, wir tanken Energie"\r\n\r\nBei geringer Anmeldezahl kann eine Zusammenlegung mit einer ähnlichen Veranstaltung erfolgen.
URL;VALUE=URI:https://www.unser-ferienprogramm.de/wolfsburg-schule/veranstaltung.php?id=302619
SUMMARY:Sommerferien "Sommerzeit\, wir tanken Energie" an der Waldschule Eichelkamp 
DTSTART;TZID=Europe/Berlin:20260715T080000
END:VEVENT


BEGIN:VEVENT
DTEND;TZID=Europe/Berlin:20260716T170000
UID:69e6103c1bbff3
DTSTAMP:20260420T133836
LOCATION:Waldschule Eichelkamp
DESCRIPTION:Die verlässliche ganztägige Sommerferienwoche organisiert der ev.-luth. Kirchenkreis Wolfsburg-Wittingen in Kooperation mit dem Geschäftsbereich Schule der Stadt Wolfsburg. \r\n\r\nDas Programm der Sommerferien 2026 steht unter dem spannenden Motto "Sommerzeit\, wir tanken Energie"\r\n\r\nBei geringer Anmeldezahl kann eine Zusammenlegung mit einer ähnlichen Veranstaltung erfolgen.
URL;VALUE=URI:https://www.unser-ferienprogramm.de/wolfsburg-schule/veranstaltung.php?id=302619
SUMMARY:Sommerferien "Sommerzeit\, wir tanken Energie" an der Waldschule Eichelkamp 
DTSTART;TZID=Europe/Berlin:20260716T080000
END:VEVENT


BEGIN:VEVENT
DTEND;TZID=Europe/Berlin:20260717T170000
UID:69e6103c1bc084
DTSTAMP:20260420T133836
LOCATION:Waldschule Eichelkamp
DESCRIPTION:Die verlässliche ganztägige Sommerferienwoche organisiert der ev.-luth. Kirchenkreis Wolfsburg-Wittingen in Kooperation mit dem Geschäftsbereich Schule der Stadt Wolfsburg. \r\n\r\nDas Programm der Sommerferien 2026 steht unter dem spannenden Motto "Sommerzeit\, wir tanken Energie"\r\n\r\nBei geringer Anmeldezahl kann eine Zusammenlegung mit einer ähnlichen Veranstaltung erfolgen.
URL;VALUE=URI:https://www.unser-ferienprogramm.de/wolfsburg-schule/veranstaltung.php?id=302619
SUMMARY:Sommerferien "Sommerzeit\, wir tanken Energie" an der Waldschule Eichelkamp 
DTSTART;TZID=Europe/Berlin:20260717T080000
END:VEVENT

END:VCALENDAR
