BEGIN:VCALENDAR
VERSION:2.0
PRODID:-//hacksw/handcal//NONSGML v1.0//EN
CALSCALE:GREGORIAN
BEGIN:VTIMEZONE
TZID:Europe/Berlin
X-LIC-LOCATION:Europe/Berlin
BEGIN:DAYLIGHT
TZOFFSETFROM:+0100
TZOFFSETTO:+0200
TZNAME:CEST
DTSTART:19700329T020000
RRULE:FREQ=YEARLY;BYDAY=-1SU;BYMONTH=3
END:DAYLIGHT
BEGIN:STANDARD
TZOFFSETFROM:+0200
TZOFFSETTO:+0100
TZNAME:CET
DTSTART:19701025T030000
RRULE:FREQ=YEARLY;BYDAY=-1SU;BYMONTH=10
END:STANDARD
END:VTIMEZONE
BEGIN:VEVENT
DTEND;TZID=Europe/Berlin:20260706T080000
UID:69e6103c3bbff
DTSTAMP:20260420T133836
LOCATION:Waldschule Eichelkamp
DESCRIPTION:
URL;VALUE=URI:https://www.unser-ferienprogramm.de/wolfsburg-schule/veranstaltung.php?id=302618
SUMMARY:Frühdienst (07:30 - 08:00) "Sommerzeit\, wir tanken Energie" an der Waldschule Eichelkamp 
DTSTART;TZID=Europe/Berlin:20260706T073000
END:VEVENT


BEGIN:VEVENT
DTEND;TZID=Europe/Berlin:20260707T080000
UID:69e6103c3bc2c1
DTSTAMP:20260420T133836
LOCATION:Waldschule Eichelkamp
DESCRIPTION:
URL;VALUE=URI:https://www.unser-ferienprogramm.de/wolfsburg-schule/veranstaltung.php?id=302618
SUMMARY:Frühdienst (07:30 - 08:00) "Sommerzeit\, wir tanken Energie" an der Waldschule Eichelkamp 
DTSTART;TZID=Europe/Berlin:20260707T073000
END:VEVENT


BEGIN:VEVENT
DTEND;TZID=Europe/Berlin:20260708T080000
UID:69e6103c3bc382
DTSTAMP:20260420T133836
LOCATION:Waldschule Eichelkamp
DESCRIPTION:
URL;VALUE=URI:https://www.unser-ferienprogramm.de/wolfsburg-schule/veranstaltung.php?id=302618
SUMMARY:Frühdienst (07:30 - 08:00) "Sommerzeit\, wir tanken Energie" an der Waldschule Eichelkamp 
DTSTART;TZID=Europe/Berlin:20260708T073000
END:VEVENT


BEGIN:VEVENT
DTEND;TZID=Europe/Berlin:20260709T080000
UID:69e6103c3bc413
DTSTAMP:20260420T133836
LOCATION:Waldschule Eichelkamp
DESCRIPTION:
URL;VALUE=URI:https://www.unser-ferienprogramm.de/wolfsburg-schule/veranstaltung.php?id=302618
SUMMARY:Frühdienst (07:30 - 08:00) "Sommerzeit\, wir tanken Energie" an der Waldschule Eichelkamp 
DTSTART;TZID=Europe/Berlin:20260709T073000
END:VEVENT


BEGIN:VEVENT
DTEND;TZID=Europe/Berlin:20260710T080000
UID:69e6103c3bc4a4
DTSTAMP:20260420T133836
LOCATION:Waldschule Eichelkamp
DESCRIPTION:
URL;VALUE=URI:https://www.unser-ferienprogramm.de/wolfsburg-schule/veranstaltung.php?id=302618
SUMMARY:Frühdienst (07:30 - 08:00) "Sommerzeit\, wir tanken Energie" an der Waldschule Eichelkamp 
DTSTART;TZID=Europe/Berlin:20260710T073000
END:VEVENT

END:VCALENDAR
