BEGIN:VCALENDAR
VERSION:2.0
PRODID:-//hacksw/handcal//NONSGML v1.0//EN
CALSCALE:GREGORIAN
BEGIN:VTIMEZONE
TZID:Europe/Berlin
X-LIC-LOCATION:Europe/Berlin
BEGIN:DAYLIGHT
TZOFFSETFROM:+0100
TZOFFSETTO:+0200
TZNAME:CEST
DTSTART:19700329T020000
RRULE:FREQ=YEARLY;BYDAY=-1SU;BYMONTH=3
END:DAYLIGHT
BEGIN:STANDARD
TZOFFSETFROM:+0200
TZOFFSETTO:+0100
TZNAME:CET
DTSTART:19701025T030000
RRULE:FREQ=YEARLY;BYDAY=-1SU;BYMONTH=10
END:STANDARD
END:VTIMEZONE
BEGIN:VEVENT
DTEND;TZID=Europe/Berlin:20260706T170000
UID:69e6103c3ac72
DTSTAMP:20260420T133836
LOCATION:Waldschule Eichelkamp
DESCRIPTION:Die verlässliche ganztägige Sommerferienwoche organisiert der ev.-luth. Kirchenkreis Wolfsburg-Wittingen in Kooperation mit dem Geschäftsbereich Schule der Stadt Wolfsburg. \r\n\r\nDas Programm der Sommerferien 2026 steht unter dem spannenden Motto "Sommerzeit\, wir tanken Energie"\r\n\r\nBei geringer Anmeldezahl kann eine Zusammenlegung mit einer ähnlichen Veranstaltung erfolgen.
URL;VALUE=URI:https://www.unser-ferienprogramm.de/wolfsburg-schule/veranstaltung.php?id=302616
SUMMARY:Sommerferien "Sommerzeit\, wir tanken Energie" an der Waldschule Eichelkamp 
DTSTART;TZID=Europe/Berlin:20260706T080000
END:VEVENT


BEGIN:VEVENT
DTEND;TZID=Europe/Berlin:20260707T170000
UID:69e6103c3acb01
DTSTAMP:20260420T133836
LOCATION:Waldschule Eichelkamp
DESCRIPTION:Die verlässliche ganztägige Sommerferienwoche organisiert der ev.-luth. Kirchenkreis Wolfsburg-Wittingen in Kooperation mit dem Geschäftsbereich Schule der Stadt Wolfsburg. \r\n\r\nDas Programm der Sommerferien 2026 steht unter dem spannenden Motto "Sommerzeit\, wir tanken Energie"\r\n\r\nBei geringer Anmeldezahl kann eine Zusammenlegung mit einer ähnlichen Veranstaltung erfolgen.
URL;VALUE=URI:https://www.unser-ferienprogramm.de/wolfsburg-schule/veranstaltung.php?id=302616
SUMMARY:Sommerferien "Sommerzeit\, wir tanken Energie" an der Waldschule Eichelkamp 
DTSTART;TZID=Europe/Berlin:20260707T080000
END:VEVENT


BEGIN:VEVENT
DTEND;TZID=Europe/Berlin:20260708T170000
UID:69e6103c3acbe2
DTSTAMP:20260420T133836
LOCATION:Waldschule Eichelkamp
DESCRIPTION:Die verlässliche ganztägige Sommerferienwoche organisiert der ev.-luth. Kirchenkreis Wolfsburg-Wittingen in Kooperation mit dem Geschäftsbereich Schule der Stadt Wolfsburg. \r\n\r\nDas Programm der Sommerferien 2026 steht unter dem spannenden Motto "Sommerzeit\, wir tanken Energie"\r\n\r\nBei geringer Anmeldezahl kann eine Zusammenlegung mit einer ähnlichen Veranstaltung erfolgen.
URL;VALUE=URI:https://www.unser-ferienprogramm.de/wolfsburg-schule/veranstaltung.php?id=302616
SUMMARY:Sommerferien "Sommerzeit\, wir tanken Energie" an der Waldschule Eichelkamp 
DTSTART;TZID=Europe/Berlin:20260708T080000
END:VEVENT


BEGIN:VEVENT
DTEND;TZID=Europe/Berlin:20260709T170000
UID:69e6103c3acc93
DTSTAMP:20260420T133836
LOCATION:Waldschule Eichelkamp
DESCRIPTION:Die verlässliche ganztägige Sommerferienwoche organisiert der ev.-luth. Kirchenkreis Wolfsburg-Wittingen in Kooperation mit dem Geschäftsbereich Schule der Stadt Wolfsburg. \r\n\r\nDas Programm der Sommerferien 2026 steht unter dem spannenden Motto "Sommerzeit\, wir tanken Energie"\r\n\r\nBei geringer Anmeldezahl kann eine Zusammenlegung mit einer ähnlichen Veranstaltung erfolgen.
URL;VALUE=URI:https://www.unser-ferienprogramm.de/wolfsburg-schule/veranstaltung.php?id=302616
SUMMARY:Sommerferien "Sommerzeit\, wir tanken Energie" an der Waldschule Eichelkamp 
DTSTART;TZID=Europe/Berlin:20260709T080000
END:VEVENT


BEGIN:VEVENT
DTEND;TZID=Europe/Berlin:20260710T170000
UID:69e6103c3acd24
DTSTAMP:20260420T133836
LOCATION:Waldschule Eichelkamp
DESCRIPTION:Die verlässliche ganztägige Sommerferienwoche organisiert der ev.-luth. Kirchenkreis Wolfsburg-Wittingen in Kooperation mit dem Geschäftsbereich Schule der Stadt Wolfsburg. \r\n\r\nDas Programm der Sommerferien 2026 steht unter dem spannenden Motto "Sommerzeit\, wir tanken Energie"\r\n\r\nBei geringer Anmeldezahl kann eine Zusammenlegung mit einer ähnlichen Veranstaltung erfolgen.
URL;VALUE=URI:https://www.unser-ferienprogramm.de/wolfsburg-schule/veranstaltung.php?id=302616
SUMMARY:Sommerferien "Sommerzeit\, wir tanken Energie" an der Waldschule Eichelkamp 
DTSTART;TZID=Europe/Berlin:20260710T080000
END:VEVENT

END:VCALENDAR
