BEGIN:VCALENDAR
VERSION:2.0
PRODID:-//hacksw/handcal//NONSGML v1.0//EN
CALSCALE:GREGORIAN
BEGIN:VTIMEZONE
TZID:Europe/Berlin
X-LIC-LOCATION:Europe/Berlin
BEGIN:DAYLIGHT
TZOFFSETFROM:+0100
TZOFFSETTO:+0200
TZNAME:CEST
DTSTART:19700329T020000
RRULE:FREQ=YEARLY;BYDAY=-1SU;BYMONTH=3
END:DAYLIGHT
BEGIN:STANDARD
TZOFFSETFROM:+0200
TZOFFSETTO:+0100
TZNAME:CET
DTSTART:19701025T030000
RRULE:FREQ=YEARLY;BYDAY=-1SU;BYMONTH=10
END:STANDARD
END:VTIMEZONE
BEGIN:VEVENT
DTEND;TZID=Europe/Berlin:20260526T080000
UID:69e60fe8aeed1
DTSTAMP:20260420T133712
LOCATION:Waldschule Eichelkamp
DESCRIPTION:Die verlässlichen ganztägigen Ferien organisiert der ev.-luth. Kirchenkreis Wolfsburg-Wittingen in Kooperation mit dem Geschäftsbereich Schule der Stadt Wolfsburg. \r\n\r\nEin Tag voller Kreativangebote\, Bewegungsangebote und Zeit zum freien Spiel zum Motto "Komm spiel mit uns am Eichelkamp".\r\n
URL;VALUE=URI:https://www.unser-ferienprogramm.de/wolfsburg-schule/veranstaltung.php?id=302608
SUMMARY:Frühdienst Brückentag Pfingsten (07:30 - 08:00) - "Spiel und Spaß am Brückentag"
DTSTART;TZID=Europe/Berlin:20260526T073000
END:VEVENT

END:VCALENDAR
