BEGIN:VCALENDAR
VERSION:2.0
PRODID:-//hacksw/handcal//NONSGML v1.0//EN
CALSCALE:GREGORIAN
BEGIN:VTIMEZONE
TZID:Europe/Berlin
X-LIC-LOCATION:Europe/Berlin
BEGIN:DAYLIGHT
TZOFFSETFROM:+0100
TZOFFSETTO:+0200
TZNAME:CEST
DTSTART:19700329T020000
RRULE:FREQ=YEARLY;BYDAY=-1SU;BYMONTH=3
END:DAYLIGHT
BEGIN:STANDARD
TZOFFSETFROM:+0200
TZOFFSETTO:+0100
TZNAME:CET
DTSTART:19701025T030000
RRULE:FREQ=YEARLY;BYDAY=-1SU;BYMONTH=10
END:STANDARD
END:VTIMEZONE
BEGIN:VEVENT
DTEND;TZID=Europe/Berlin:20261019T160000
UID:69e629397a9cf
DTSTAMP:20260420T152513
LOCATION:Laagbergschule Masurenweg 9
DESCRIPTION:Die Natur geht langsam in den Winterschlaf - aber wir feiern mit euch den Herbst. Wir freuen uns auf die Herbstferien mit euch. Ideen und Wünsche gebt gerne an die Mitarbeitenden des Ganztages weiter. 
URL;VALUE=URI:https://www.unser-ferienprogramm.de/wolfsburg-schule/veranstaltung.php?id=298673
SUMMARY:Herbstferien Woche 2 Laagbergschule
DTSTART;TZID=Europe/Berlin:20261019T080000
END:VEVENT


BEGIN:VEVENT
DTEND;TZID=Europe/Berlin:20261020T160000
UID:69e629397a9e91
DTSTAMP:20260420T152513
LOCATION:Laagbergschule Masurenweg 9
DESCRIPTION:Die Natur geht langsam in den Winterschlaf - aber wir feiern mit euch den Herbst. Wir freuen uns auf die Herbstferien mit euch. Ideen und Wünsche gebt gerne an die Mitarbeitenden des Ganztages weiter. 
URL;VALUE=URI:https://www.unser-ferienprogramm.de/wolfsburg-schule/veranstaltung.php?id=298673
SUMMARY:Herbstferien Woche 2 Laagbergschule
DTSTART;TZID=Europe/Berlin:20261020T080000
END:VEVENT


BEGIN:VEVENT
DTEND;TZID=Europe/Berlin:20261021T160000
UID:69e629397a9f52
DTSTAMP:20260420T152513
LOCATION:Laagbergschule Masurenweg 9
DESCRIPTION:Die Natur geht langsam in den Winterschlaf - aber wir feiern mit euch den Herbst. Wir freuen uns auf die Herbstferien mit euch. Ideen und Wünsche gebt gerne an die Mitarbeitenden des Ganztages weiter. 
URL;VALUE=URI:https://www.unser-ferienprogramm.de/wolfsburg-schule/veranstaltung.php?id=298673
SUMMARY:Herbstferien Woche 2 Laagbergschule
DTSTART;TZID=Europe/Berlin:20261021T080000
END:VEVENT


BEGIN:VEVENT
DTEND;TZID=Europe/Berlin:20261022T160000
UID:69e629397aa023
DTSTAMP:20260420T152513
LOCATION:Laagbergschule Masurenweg 9
DESCRIPTION:Die Natur geht langsam in den Winterschlaf - aber wir feiern mit euch den Herbst. Wir freuen uns auf die Herbstferien mit euch. Ideen und Wünsche gebt gerne an die Mitarbeitenden des Ganztages weiter. 
URL;VALUE=URI:https://www.unser-ferienprogramm.de/wolfsburg-schule/veranstaltung.php?id=298673
SUMMARY:Herbstferien Woche 2 Laagbergschule
DTSTART;TZID=Europe/Berlin:20261022T080000
END:VEVENT


BEGIN:VEVENT
DTEND;TZID=Europe/Berlin:20261023T160000
UID:69e629397aa0c4
DTSTAMP:20260420T152513
LOCATION:Laagbergschule Masurenweg 9
DESCRIPTION:Die Natur geht langsam in den Winterschlaf - aber wir feiern mit euch den Herbst. Wir freuen uns auf die Herbstferien mit euch. Ideen und Wünsche gebt gerne an die Mitarbeitenden des Ganztages weiter. 
URL;VALUE=URI:https://www.unser-ferienprogramm.de/wolfsburg-schule/veranstaltung.php?id=298673
SUMMARY:Herbstferien Woche 2 Laagbergschule
DTSTART;TZID=Europe/Berlin:20261023T080000
END:VEVENT

END:VCALENDAR
