BEGIN:VCALENDAR
VERSION:2.0
PRODID:-//hacksw/handcal//NONSGML v1.0//EN
CALSCALE:GREGORIAN
BEGIN:VTIMEZONE
TZID:Europe/Berlin
X-LIC-LOCATION:Europe/Berlin
BEGIN:DAYLIGHT
TZOFFSETFROM:+0100
TZOFFSETTO:+0200
TZNAME:CEST
DTSTART:19700329T020000
RRULE:FREQ=YEARLY;BYDAY=-1SU;BYMONTH=3
END:DAYLIGHT
BEGIN:STANDARD
TZOFFSETFROM:+0200
TZOFFSETTO:+0100
TZNAME:CET
DTSTART:19701025T030000
RRULE:FREQ=YEARLY;BYDAY=-1SU;BYMONTH=10
END:STANDARD
END:VTIMEZONE
BEGIN:VEVENT
DTEND;TZID=Europe/Berlin:20261012T160000
UID:69e6291622b0a
DTSTAMP:20260420T152438
LOCATION:Laagbergschule Masurenweg 9
DESCRIPTION:Die Natur geht langsam in den Winterschlaf - aber wir feiern mit euch den Herbst. Wir freuen uns auf die Herbstferien mit euch. Ideen und Wünsche gebt gerne an die Mitarbeitenden des Ganztages weiter.
URL;VALUE=URI:https://www.unser-ferienprogramm.de/wolfsburg-schule/veranstaltung.php?id=298671
SUMMARY:Herbstferien Woche 1 Laagbergschule
DTSTART;TZID=Europe/Berlin:20261012T080000
END:VEVENT


BEGIN:VEVENT
DTEND;TZID=Europe/Berlin:20261013T160000
UID:69e6291622b431
DTSTAMP:20260420T152438
LOCATION:Laagbergschule Masurenweg 9
DESCRIPTION:Die Natur geht langsam in den Winterschlaf - aber wir feiern mit euch den Herbst. Wir freuen uns auf die Herbstferien mit euch. Ideen und Wünsche gebt gerne an die Mitarbeitenden des Ganztages weiter.
URL;VALUE=URI:https://www.unser-ferienprogramm.de/wolfsburg-schule/veranstaltung.php?id=298671
SUMMARY:Herbstferien Woche 1 Laagbergschule
DTSTART;TZID=Europe/Berlin:20261013T080000
END:VEVENT


BEGIN:VEVENT
DTEND;TZID=Europe/Berlin:20261014T160000
UID:69e6291622b4f2
DTSTAMP:20260420T152438
LOCATION:Laagbergschule Masurenweg 9
DESCRIPTION:Die Natur geht langsam in den Winterschlaf - aber wir feiern mit euch den Herbst. Wir freuen uns auf die Herbstferien mit euch. Ideen und Wünsche gebt gerne an die Mitarbeitenden des Ganztages weiter.
URL;VALUE=URI:https://www.unser-ferienprogramm.de/wolfsburg-schule/veranstaltung.php?id=298671
SUMMARY:Herbstferien Woche 1 Laagbergschule
DTSTART;TZID=Europe/Berlin:20261014T080000
END:VEVENT


BEGIN:VEVENT
DTEND;TZID=Europe/Berlin:20261015T160000
UID:69e6291622b633
DTSTAMP:20260420T152438
LOCATION:Laagbergschule Masurenweg 9
DESCRIPTION:Die Natur geht langsam in den Winterschlaf - aber wir feiern mit euch den Herbst. Wir freuen uns auf die Herbstferien mit euch. Ideen und Wünsche gebt gerne an die Mitarbeitenden des Ganztages weiter.
URL;VALUE=URI:https://www.unser-ferienprogramm.de/wolfsburg-schule/veranstaltung.php?id=298671
SUMMARY:Herbstferien Woche 1 Laagbergschule
DTSTART;TZID=Europe/Berlin:20261015T080000
END:VEVENT


BEGIN:VEVENT
DTEND;TZID=Europe/Berlin:20261016T160000
UID:69e6291622b6d4
DTSTAMP:20260420T152438
LOCATION:Laagbergschule Masurenweg 9
DESCRIPTION:Die Natur geht langsam in den Winterschlaf - aber wir feiern mit euch den Herbst. Wir freuen uns auf die Herbstferien mit euch. Ideen und Wünsche gebt gerne an die Mitarbeitenden des Ganztages weiter.
URL;VALUE=URI:https://www.unser-ferienprogramm.de/wolfsburg-schule/veranstaltung.php?id=298671
SUMMARY:Herbstferien Woche 1 Laagbergschule
DTSTART;TZID=Europe/Berlin:20261016T080000
END:VEVENT

END:VCALENDAR
