BEGIN:VCALENDAR
VERSION:2.0
PRODID:-//hacksw/handcal//NONSGML v1.0//EN
CALSCALE:GREGORIAN
BEGIN:VTIMEZONE
TZID:Europe/Berlin
X-LIC-LOCATION:Europe/Berlin
BEGIN:DAYLIGHT
TZOFFSETFROM:+0100
TZOFFSETTO:+0200
TZNAME:CEST
DTSTART:19700329T020000
RRULE:FREQ=YEARLY;BYDAY=-1SU;BYMONTH=3
END:DAYLIGHT
BEGIN:STANDARD
TZOFFSETFROM:+0200
TZOFFSETTO:+0100
TZNAME:CET
DTSTART:19701025T030000
RRULE:FREQ=YEARLY;BYDAY=-1SU;BYMONTH=10
END:STANDARD
END:VTIMEZONE
BEGIN:VEVENT
DTEND;TZID=Europe/Berlin:20260713T160000
UID:69e60fe84aa58
DTSTAMP:20260420T133712
LOCATION:Laagbergschule Masurenweg 9
DESCRIPTION:Sommer in der Schule: Zeit für Entdeckungen\, Spaß und Spiel! Wir freuen uns auf die Ferien mit euch. Eure Wünsche und Ideen erzählt gerne den Mitarbeitenden des Ganztages. 
URL;VALUE=URI:https://www.unser-ferienprogramm.de/wolfsburg-schule/veranstaltung.php?id=298668
SUMMARY:Sommerferien Woche 2 Laagbergschule
DTSTART;TZID=Europe/Berlin:20260713T080000
END:VEVENT


BEGIN:VEVENT
DTEND;TZID=Europe/Berlin:20260714T160000
UID:69e60fe84aa871
DTSTAMP:20260420T133712
LOCATION:Laagbergschule Masurenweg 9
DESCRIPTION:Sommer in der Schule: Zeit für Entdeckungen\, Spaß und Spiel! Wir freuen uns auf die Ferien mit euch. Eure Wünsche und Ideen erzählt gerne den Mitarbeitenden des Ganztages. 
URL;VALUE=URI:https://www.unser-ferienprogramm.de/wolfsburg-schule/veranstaltung.php?id=298668
SUMMARY:Sommerferien Woche 2 Laagbergschule
DTSTART;TZID=Europe/Berlin:20260714T080000
END:VEVENT


BEGIN:VEVENT
DTEND;TZID=Europe/Berlin:20260715T160000
UID:69e60fe84aa932
DTSTAMP:20260420T133712
LOCATION:Laagbergschule Masurenweg 9
DESCRIPTION:Sommer in der Schule: Zeit für Entdeckungen\, Spaß und Spiel! Wir freuen uns auf die Ferien mit euch. Eure Wünsche und Ideen erzählt gerne den Mitarbeitenden des Ganztages. 
URL;VALUE=URI:https://www.unser-ferienprogramm.de/wolfsburg-schule/veranstaltung.php?id=298668
SUMMARY:Sommerferien Woche 2 Laagbergschule
DTSTART;TZID=Europe/Berlin:20260715T080000
END:VEVENT


BEGIN:VEVENT
DTEND;TZID=Europe/Berlin:20260716T160000
UID:69e60fe84aa9d3
DTSTAMP:20260420T133712
LOCATION:Laagbergschule Masurenweg 9
DESCRIPTION:Sommer in der Schule: Zeit für Entdeckungen\, Spaß und Spiel! Wir freuen uns auf die Ferien mit euch. Eure Wünsche und Ideen erzählt gerne den Mitarbeitenden des Ganztages. 
URL;VALUE=URI:https://www.unser-ferienprogramm.de/wolfsburg-schule/veranstaltung.php?id=298668
SUMMARY:Sommerferien Woche 2 Laagbergschule
DTSTART;TZID=Europe/Berlin:20260716T080000
END:VEVENT


BEGIN:VEVENT
DTEND;TZID=Europe/Berlin:20260717T160000
UID:69e60fe84aaa74
DTSTAMP:20260420T133712
LOCATION:Laagbergschule Masurenweg 9
DESCRIPTION:Sommer in der Schule: Zeit für Entdeckungen\, Spaß und Spiel! Wir freuen uns auf die Ferien mit euch. Eure Wünsche und Ideen erzählt gerne den Mitarbeitenden des Ganztages. 
URL;VALUE=URI:https://www.unser-ferienprogramm.de/wolfsburg-schule/veranstaltung.php?id=298668
SUMMARY:Sommerferien Woche 2 Laagbergschule
DTSTART;TZID=Europe/Berlin:20260717T080000
END:VEVENT

END:VCALENDAR
