BEGIN:VCALENDAR
VERSION:2.0
PRODID:-//hacksw/handcal//NONSGML v1.0//EN
CALSCALE:GREGORIAN
BEGIN:VTIMEZONE
TZID:Europe/Berlin
X-LIC-LOCATION:Europe/Berlin
BEGIN:DAYLIGHT
TZOFFSETFROM:+0100
TZOFFSETTO:+0200
TZNAME:CEST
DTSTART:19700329T020000
RRULE:FREQ=YEARLY;BYDAY=-1SU;BYMONTH=3
END:DAYLIGHT
BEGIN:STANDARD
TZOFFSETFROM:+0200
TZOFFSETTO:+0100
TZNAME:CET
DTSTART:19701025T030000
RRULE:FREQ=YEARLY;BYDAY=-1SU;BYMONTH=10
END:STANDARD
END:VTIMEZONE
BEGIN:VEVENT
DTEND;TZID=Europe/Berlin:20260706T160000
UID:69e60fe838614
DTSTAMP:20260420T133712
LOCATION:Laagbergschule Masurenweg 9
DESCRIPTION:Sommer in der Schule: Zeit für Entdeckungen\, Spaß und Spiel! Wir freuen uns auf die Ferien mit euch. Eure Wünsche und Ideen erzählt gerne den Mitarbeitenden des Ganztages.
URL;VALUE=URI:https://www.unser-ferienprogramm.de/wolfsburg-schule/veranstaltung.php?id=298667
SUMMARY:Sommerferien Woche 1 Laagbergschule
DTSTART;TZID=Europe/Berlin:20260706T080000
END:VEVENT


BEGIN:VEVENT
DTEND;TZID=Europe/Berlin:20260707T160000
UID:69e60fe83862a1
DTSTAMP:20260420T133712
LOCATION:Laagbergschule Masurenweg 9
DESCRIPTION:Sommer in der Schule: Zeit für Entdeckungen\, Spaß und Spiel! Wir freuen uns auf die Ferien mit euch. Eure Wünsche und Ideen erzählt gerne den Mitarbeitenden des Ganztages.
URL;VALUE=URI:https://www.unser-ferienprogramm.de/wolfsburg-schule/veranstaltung.php?id=298667
SUMMARY:Sommerferien Woche 1 Laagbergschule
DTSTART;TZID=Europe/Berlin:20260707T080000
END:VEVENT


BEGIN:VEVENT
DTEND;TZID=Europe/Berlin:20260708T160000
UID:69e60fe8386362
DTSTAMP:20260420T133712
LOCATION:Laagbergschule Masurenweg 9
DESCRIPTION:Sommer in der Schule: Zeit für Entdeckungen\, Spaß und Spiel! Wir freuen uns auf die Ferien mit euch. Eure Wünsche und Ideen erzählt gerne den Mitarbeitenden des Ganztages.
URL;VALUE=URI:https://www.unser-ferienprogramm.de/wolfsburg-schule/veranstaltung.php?id=298667
SUMMARY:Sommerferien Woche 1 Laagbergschule
DTSTART;TZID=Europe/Berlin:20260708T080000
END:VEVENT


BEGIN:VEVENT
DTEND;TZID=Europe/Berlin:20260709T160000
UID:69e60fe8386413
DTSTAMP:20260420T133712
LOCATION:Laagbergschule Masurenweg 9
DESCRIPTION:Sommer in der Schule: Zeit für Entdeckungen\, Spaß und Spiel! Wir freuen uns auf die Ferien mit euch. Eure Wünsche und Ideen erzählt gerne den Mitarbeitenden des Ganztages.
URL;VALUE=URI:https://www.unser-ferienprogramm.de/wolfsburg-schule/veranstaltung.php?id=298667
SUMMARY:Sommerferien Woche 1 Laagbergschule
DTSTART;TZID=Europe/Berlin:20260709T080000
END:VEVENT


BEGIN:VEVENT
DTEND;TZID=Europe/Berlin:20260710T160000
UID:69e60fe83864a4
DTSTAMP:20260420T133712
LOCATION:Laagbergschule Masurenweg 9
DESCRIPTION:Sommer in der Schule: Zeit für Entdeckungen\, Spaß und Spiel! Wir freuen uns auf die Ferien mit euch. Eure Wünsche und Ideen erzählt gerne den Mitarbeitenden des Ganztages.
URL;VALUE=URI:https://www.unser-ferienprogramm.de/wolfsburg-schule/veranstaltung.php?id=298667
SUMMARY:Sommerferien Woche 1 Laagbergschule
DTSTART;TZID=Europe/Berlin:20260710T080000
END:VEVENT

END:VCALENDAR
