BEGIN:VCALENDAR
VERSION:2.0
PRODID:-//hacksw/handcal//NONSGML v1.0//EN
CALSCALE:GREGORIAN
BEGIN:VTIMEZONE
TZID:Europe/Berlin
X-LIC-LOCATION:Europe/Berlin
BEGIN:DAYLIGHT
TZOFFSETFROM:+0100
TZOFFSETTO:+0200
TZNAME:CEST
DTSTART:19700329T020000
RRULE:FREQ=YEARLY;BYDAY=-1SU;BYMONTH=3
END:DAYLIGHT
BEGIN:STANDARD
TZOFFSETFROM:+0200
TZOFFSETTO:+0100
TZNAME:CET
DTSTART:19701025T030000
RRULE:FREQ=YEARLY;BYDAY=-1SU;BYMONTH=10
END:STANDARD
END:VTIMEZONE
BEGIN:VEVENT
DTEND;TZID=Europe/Berlin:20260330T160000
UID:69e6406e77f9f
DTSTAMP:20260420T170414
LOCATION:Laagbergschule Masurenweg 9
DESCRIPTION:Wir freuen uns auf vier Tage Spiel\, Bewegung und Kreativtät mit euch. Eure Wünsche und Ideen könnt ihr gerne den Mitarbeitenden im Ganztag sagen.
URL;VALUE=URI:https://www.unser-ferienprogramm.de/wolfsburg-schule/veranstaltung.php?id=298664
SUMMARY:Osterferien Woche 2 Laagbergschule
DTSTART;TZID=Europe/Berlin:20260330T080000
END:VEVENT


BEGIN:VEVENT
DTEND;TZID=Europe/Berlin:20260331T160000
UID:69e6406e77fd91
DTSTAMP:20260420T170414
LOCATION:Laagbergschule Masurenweg 9
DESCRIPTION:Wir freuen uns auf vier Tage Spiel\, Bewegung und Kreativtät mit euch. Eure Wünsche und Ideen könnt ihr gerne den Mitarbeitenden im Ganztag sagen.
URL;VALUE=URI:https://www.unser-ferienprogramm.de/wolfsburg-schule/veranstaltung.php?id=298664
SUMMARY:Osterferien Woche 2 Laagbergschule
DTSTART;TZID=Europe/Berlin:20260331T080000
END:VEVENT


BEGIN:VEVENT
DTEND;TZID=Europe/Berlin:20260401T160000
UID:69e6406e77fe62
DTSTAMP:20260420T170414
LOCATION:Laagbergschule Masurenweg 9
DESCRIPTION:Wir freuen uns auf vier Tage Spiel\, Bewegung und Kreativtät mit euch. Eure Wünsche und Ideen könnt ihr gerne den Mitarbeitenden im Ganztag sagen.
URL;VALUE=URI:https://www.unser-ferienprogramm.de/wolfsburg-schule/veranstaltung.php?id=298664
SUMMARY:Osterferien Woche 2 Laagbergschule
DTSTART;TZID=Europe/Berlin:20260401T080000
END:VEVENT


BEGIN:VEVENT
DTEND;TZID=Europe/Berlin:20260402T160000
UID:69e6406e77fef3
DTSTAMP:20260420T170414
LOCATION:Laagbergschule Masurenweg 9
DESCRIPTION:Wir freuen uns auf vier Tage Spiel\, Bewegung und Kreativtät mit euch. Eure Wünsche und Ideen könnt ihr gerne den Mitarbeitenden im Ganztag sagen.
URL;VALUE=URI:https://www.unser-ferienprogramm.de/wolfsburg-schule/veranstaltung.php?id=298664
SUMMARY:Osterferien Woche 2 Laagbergschule
DTSTART;TZID=Europe/Berlin:20260402T080000
END:VEVENT

END:VCALENDAR
