BEGIN:VCALENDAR
VERSION:2.0
PRODID:-//hacksw/handcal//NONSGML v1.0//EN
CALSCALE:GREGORIAN
BEGIN:VTIMEZONE
TZID:Europe/Berlin
X-LIC-LOCATION:Europe/Berlin
BEGIN:DAYLIGHT
TZOFFSETFROM:+0100
TZOFFSETTO:+0200
TZNAME:CEST
DTSTART:19700329T020000
RRULE:FREQ=YEARLY;BYDAY=-1SU;BYMONTH=3
END:DAYLIGHT
BEGIN:STANDARD
TZOFFSETFROM:+0200
TZOFFSETTO:+0100
TZNAME:CET
DTSTART:19701025T030000
RRULE:FREQ=YEARLY;BYDAY=-1SU;BYMONTH=10
END:STANDARD
END:VTIMEZONE
BEGIN:VEVENT
DTEND;TZID=Europe/Berlin:20260326T170000
UID:69ea84b88c444
DTSTAMP:20260423T224440
LOCATION:Wittmund
DESCRIPTION:Knüpfe dein eigenes Makramee-Püppchen!\r\nToll zum Verschenken oder für dich selbst behalten: Wunderschöne kleine Schlüsselanhänger-Püppchen entstehen aus Garn\, Holzperlen und etwas Geschick. Einfach nachmachen – perfekt für kreative Ferientage!
URL;VALUE=URI:https://www.unser-ferienprogramm.de/wittmund/veranstaltung.php?id=307462
SUMMARY:Makramee-Püppchen Anhänger
DTSTART;TZID=Europe/Berlin:20260326T150000
END:VEVENT

END:VCALENDAR
