BEGIN:VCALENDAR
VERSION:2.0
PRODID:-//hacksw/handcal//NONSGML v1.0//EN
CALSCALE:GREGORIAN
BEGIN:VTIMEZONE
TZID:Europe/Berlin
X-LIC-LOCATION:Europe/Berlin
BEGIN:DAYLIGHT
TZOFFSETFROM:+0100
TZOFFSETTO:+0200
TZNAME:CEST
DTSTART:19700329T020000
RRULE:FREQ=YEARLY;BYDAY=-1SU;BYMONTH=3
END:DAYLIGHT
BEGIN:STANDARD
TZOFFSETFROM:+0200
TZOFFSETTO:+0100
TZNAME:CET
DTSTART:19701025T030000
RRULE:FREQ=YEARLY;BYDAY=-1SU;BYMONTH=10
END:STANDARD
END:VTIMEZONE
BEGIN:VEVENT
DTEND;TZID=Europe/Berlin:20260331T160000
UID:69ea84685ffb1
DTSTAMP:20260423T224320
LOCATION:Wittmund
DESCRIPTION:Werde zum Forscher! An verschiedenen spannenden Stationen könnt ihr nach Herzenslust ausprobieren\, tüfteln und kleine Experimente durchführen – mit Wasser\, Luft\, Farben und vielen Alltagsmaterialien. Was euch genau erwartet? Lasst euch überraschen und entdeckt\, wie viel Spaß in echter Forschungsarbeit steckt!\r\n\r\n
URL;VALUE=URI:https://www.unser-ferienprogramm.de/wittmund/veranstaltung.php?id=307459
SUMMARY:Der Experimenten Tag mit Charleen
DTSTART;TZID=Europe/Berlin:20260331T140000
END:VEVENT

END:VCALENDAR
