BEGIN:VCALENDAR
VERSION:2.0
PRODID:-//hacksw/handcal//NONSGML v1.0//EN
CALSCALE:GREGORIAN
BEGIN:VTIMEZONE
TZID:Europe/Berlin
X-LIC-LOCATION:Europe/Berlin
BEGIN:DAYLIGHT
TZOFFSETFROM:+0100
TZOFFSETTO:+0200
TZNAME:CEST
DTSTART:19700329T020000
RRULE:FREQ=YEARLY;BYDAY=-1SU;BYMONTH=3
END:DAYLIGHT
BEGIN:STANDARD
TZOFFSETFROM:+0200
TZOFFSETTO:+0100
TZNAME:CET
DTSTART:19701025T030000
RRULE:FREQ=YEARLY;BYDAY=-1SU;BYMONTH=10
END:STANDARD
END:VTIMEZONE
BEGIN:VEVENT
DTEND;TZID=Europe/Berlin:20260402T203000
UID:69ea84b7b4e66
DTSTAMP:20260423T224439
LOCATION:Oberhausen
DESCRIPTION:Sea Life Oberhausen\r\nSea Life Oberhausen ist das größte Aquarium Deutschlands mit über 5.000 Meeresbewohnern in mehr als 50 Becken auf 4.000 m². Highlights sind der 10 Meter lange Unterwassertunnel durch ein 1\,5 Millionen Liter Ozeanbecken mit Haien\, Rochen und der Grünen Meeresschildkröte\, die direkt über Besuchern schwimmen – ein echtes Highlight für Familien. Weitere Attraktionen umfassen die Hai-Aufzucht (größte in Deutschland)\, quirlige Otter im Außenbereich\, den Amazonas-Bereich mit Piranhas\, ein Piratenschiff\, U-Boot mit Quallen und interaktive Berührbecken.\r\n\r\nLEGOLAND Discovery Center Oberhausen\r\nDas LEGOLAND Discovery Center neben Sea Life ist ein Indoor-Freizeitpark für Lego-Fans mit über 4 Millionen Lego-Steinen. Besucher bauen in der Creative Workshop\, rasen mit Lego-Autos auf einer 4D-Rennstrecke\, erleben Miniland (Niederrhein-Modelle aus Lego)\, eine 4D-Kino-Reise und einen Softplay-Bereich. Es gibt auch einen 4D-Simulator\, Duplo-Spielbereiche für Kleinere und ein Café.\r\n
URL;VALUE=URI:https://www.unser-ferienprogramm.de/wittmund/veranstaltung.php?id=307211
SUMMARY:Sea Life und Lego Discovery Center Oberhausen - Anmeldeschluss: 22.03.2026
DTSTART;TZID=Europe/Berlin:20260402T054500
END:VEVENT

END:VCALENDAR
