BEGIN:VCALENDAR
VERSION:2.0
PRODID:-//hacksw/handcal//NONSGML v1.0//EN
CALSCALE:GREGORIAN
BEGIN:VTIMEZONE
TZID:Europe/Berlin
X-LIC-LOCATION:Europe/Berlin
BEGIN:DAYLIGHT
TZOFFSETFROM:+0100
TZOFFSETTO:+0200
TZNAME:CEST
DTSTART:19700329T020000
RRULE:FREQ=YEARLY;BYDAY=-1SU;BYMONTH=3
END:DAYLIGHT
BEGIN:STANDARD
TZOFFSETFROM:+0200
TZOFFSETTO:+0100
TZNAME:CET
DTSTART:19701025T030000
RRULE:FREQ=YEARLY;BYDAY=-1SU;BYMONTH=10
END:STANDARD
END:VTIMEZONE
BEGIN:VEVENT
DTEND;TZID=Europe/Berlin:20260401T120000
UID:69ea84c3a0d80
DTSTAMP:20260423T224451
LOCATION:Wittmund
DESCRIPTION:Backe leckere Quarkteighasen und niedliche Osternester! Aus weichem Quarkteig formen wir hoppelnde Hasen und gefüllte Nester – für extra Osterfreude.\r\n\r\nNach dem Backen gibt’s Probieren und Verzieren – ein süßer Vormittag voller Duft und Spaß!
URL;VALUE=URI:https://www.unser-ferienprogramm.de/wittmund/veranstaltung.php?id=307193
SUMMARY:Backen mit Madelene
DTSTART;TZID=Europe/Berlin:20260401T100000
END:VEVENT

END:VCALENDAR
