BEGIN:VCALENDAR
VERSION:2.0
PRODID:-//hacksw/handcal//NONSGML v1.0//EN
CALSCALE:GREGORIAN
BEGIN:VTIMEZONE
TZID:Europe/Berlin
X-LIC-LOCATION:Europe/Berlin
BEGIN:DAYLIGHT
TZOFFSETFROM:+0100
TZOFFSETTO:+0200
TZNAME:CEST
DTSTART:19700329T020000
RRULE:FREQ=YEARLY;BYDAY=-1SU;BYMONTH=3
END:DAYLIGHT
BEGIN:STANDARD
TZOFFSETFROM:+0200
TZOFFSETTO:+0100
TZNAME:CET
DTSTART:19701025T030000
RRULE:FREQ=YEARLY;BYDAY=-1SU;BYMONTH=10
END:STANDARD
END:VTIMEZONE
BEGIN:VEVENT
DTEND;TZID=Europe/Berlin:20260326T120000
UID:69ea6f7456ca1
DTSTAMP:20260423T211356
LOCATION:Wittmund
DESCRIPTION:Aus einer Socke wird ein Hase? Ja klar! Wir zaubern weiche\, bunte und kuschelige Hasen\, die einfach nur süß sind – mit Ohren\, Schwänzchen und einem charmanten Grinsen.\r\n\r\nEin echter Hingucker auf dem Ostertisch\, den du stolz mit nach Hause nimmst.
URL;VALUE=URI:https://www.unser-ferienprogramm.de/wittmund/veranstaltung.php?id=307164
SUMMARY:Socken-Häschen
DTSTART;TZID=Europe/Berlin:20260326T100000
END:VEVENT

END:VCALENDAR
