BEGIN:VCALENDAR
VERSION:2.0
PRODID:-//hacksw/handcal//NONSGML v1.0//EN
CALSCALE:GREGORIAN
BEGIN:VTIMEZONE
TZID:Europe/Berlin
X-LIC-LOCATION:Europe/Berlin
BEGIN:DAYLIGHT
TZOFFSETFROM:+0100
TZOFFSETTO:+0200
TZNAME:CEST
DTSTART:19700329T020000
RRULE:FREQ=YEARLY;BYDAY=-1SU;BYMONTH=3
END:DAYLIGHT
BEGIN:STANDARD
TZOFFSETFROM:+0200
TZOFFSETTO:+0100
TZNAME:CET
DTSTART:19701025T030000
RRULE:FREQ=YEARLY;BYDAY=-1SU;BYMONTH=10
END:STANDARD
END:VTIMEZONE
BEGIN:VEVENT
DTEND;TZID=Europe/Berlin:20260330T120000
UID:69ea84c47a35b
DTSTAMP:20260423T224452
LOCATION:Wittmund
DESCRIPTION:Bastel verspielte und total coole Schlüsselanhänger im Pixel-Style! Aus kleinen bunten Pixelsteinen entstehen Retro-Grafik-Motive wie Emojis\, Tiere oder Games – bunt und einzigartig.\r\n\r\nSo toll\, dass man sie verschenken könnte – aber bestimmt nicht will!\r\n\r\n
URL;VALUE=URI:https://www.unser-ferienprogramm.de/wittmund/veranstaltung.php?id=307160
SUMMARY:Gepixelte Schlüsselanhänger
DTSTART;TZID=Europe/Berlin:20260330T100000
END:VEVENT

END:VCALENDAR
