BEGIN:VCALENDAR
VERSION:2.0
PRODID:-//hacksw/handcal//NONSGML v1.0//EN
CALSCALE:GREGORIAN
BEGIN:VTIMEZONE
TZID:Europe/Berlin
X-LIC-LOCATION:Europe/Berlin
BEGIN:DAYLIGHT
TZOFFSETFROM:+0100
TZOFFSETTO:+0200
TZNAME:CEST
DTSTART:19700329T020000
RRULE:FREQ=YEARLY;BYDAY=-1SU;BYMONTH=3
END:DAYLIGHT
BEGIN:STANDARD
TZOFFSETFROM:+0200
TZOFFSETTO:+0100
TZNAME:CET
DTSTART:19701025T030000
RRULE:FREQ=YEARLY;BYDAY=-1SU;BYMONTH=10
END:STANDARD
END:VTIMEZONE
BEGIN:VEVENT
DTEND;TZID=Europe/Berlin:20260330T160000
UID:69ea84b9b51a5
DTSTAMP:20260423T224441
LOCATION:Wittmund
DESCRIPTION:Gemütlicher Kinonachmittag für Kids! Lehne dich zurück\, mampfe leckeres Popcorn und schlürfe erfrischende Caprisonne\, während wir einen spannenden Überraschungsfilm schauen – ein Highlight für alle Filmfans!\r\n\r\nRaten und Vorfreude inklusive – welches Abenteuer wartet auf dich?
URL;VALUE=URI:https://www.unser-ferienprogramm.de/wittmund/veranstaltung.php?id=307138
SUMMARY:JUZ Kino mit Henrika
DTSTART;TZID=Europe/Berlin:20260330T140000
END:VEVENT

END:VCALENDAR
