BEGIN:VCALENDAR
VERSION:2.0
PRODID:-//hacksw/handcal//NONSGML v1.0//EN
CALSCALE:GREGORIAN
BEGIN:VTIMEZONE
TZID:Europe/Berlin
X-LIC-LOCATION:Europe/Berlin
BEGIN:DAYLIGHT
TZOFFSETFROM:+0100
TZOFFSETTO:+0200
TZNAME:CEST
DTSTART:19700329T020000
RRULE:FREQ=YEARLY;BYDAY=-1SU;BYMONTH=3
END:DAYLIGHT
BEGIN:STANDARD
TZOFFSETFROM:+0200
TZOFFSETTO:+0100
TZNAME:CET
DTSTART:19701025T030000
RRULE:FREQ=YEARLY;BYDAY=-1SU;BYMONTH=10
END:STANDARD
END:VTIMEZONE
BEGIN:VEVENT
DTEND;TZID=Europe/Berlin:20260326T160000
UID:69ea84c437406
DTSTAMP:20260423T224452
LOCATION:Wittmund
DESCRIPTION:Lust auf spannenden Bingo-Spaß? Wir spielen fröhliches Bingo mit bunten Karten und tollen Preisen für alle Gewinner:innen – von Süßigkeiten bis zu kleinen Überraschungen!\r\n\r\nDazu gibt’s leckere Getränke und Snacks für alle Mitspieler:innen\, damit der Nachmittag rundum gelingt.
URL;VALUE=URI:https://www.unser-ferienprogramm.de/wittmund/veranstaltung.php?id=307135
SUMMARY:Bingo mit Henrika
DTSTART;TZID=Europe/Berlin:20260326T140000
END:VEVENT

END:VCALENDAR
