BEGIN:VCALENDAR
VERSION:2.0
PRODID:-//hacksw/handcal//NONSGML v1.0//EN
CALSCALE:GREGORIAN
BEGIN:VTIMEZONE
TZID:Europe/Berlin
X-LIC-LOCATION:Europe/Berlin
BEGIN:DAYLIGHT
TZOFFSETFROM:+0100
TZOFFSETTO:+0200
TZNAME:CEST
DTSTART:19700329T020000
RRULE:FREQ=YEARLY;BYDAY=-1SU;BYMONTH=3
END:DAYLIGHT
BEGIN:STANDARD
TZOFFSETFROM:+0200
TZOFFSETTO:+0100
TZNAME:CET
DTSTART:19701025T030000
RRULE:FREQ=YEARLY;BYDAY=-1SU;BYMONTH=10
END:STANDARD
END:VTIMEZONE
BEGIN:VEVENT
DTEND;TZID=Europe/Berlin:20260331T130000
UID:69ea84b8be4c7
DTSTAMP:20260423T224440
LOCATION:Wittmund
DESCRIPTION:Wir basteln viele tolle Sachen zum Thema Ostern! Entdecke die ganzen Materialien und lasse deiner Phantasie freien Lauf\, kreative Deko-Ideen aus Papier\, Farben und Naturmaterialien – für jeden etwas dabei.\r\n\r\nEine spannende Ostereiersuche im Garten rundet den Tag ab und sorgt für extra Freude beim Schätze finden.
URL;VALUE=URI:https://www.unser-ferienprogramm.de/wittmund/veranstaltung.php?id=307133
SUMMARY:Osterbastelmeile
DTSTART;TZID=Europe/Berlin:20260331T100000
END:VEVENT

END:VCALENDAR
