BEGIN:VCALENDAR
VERSION:2.0
PRODID:-//hacksw/handcal//NONSGML v1.0//EN
CALSCALE:GREGORIAN
BEGIN:VTIMEZONE
TZID:Europe/Berlin
X-LIC-LOCATION:Europe/Berlin
BEGIN:DAYLIGHT
TZOFFSETFROM:+0100
TZOFFSETTO:+0200
TZNAME:CEST
DTSTART:19700329T020000
RRULE:FREQ=YEARLY;BYDAY=-1SU;BYMONTH=3
END:DAYLIGHT
BEGIN:STANDARD
TZOFFSETFROM:+0200
TZOFFSETTO:+0100
TZNAME:CET
DTSTART:19701025T030000
RRULE:FREQ=YEARLY;BYDAY=-1SU;BYMONTH=10
END:STANDARD
END:VTIMEZONE
BEGIN:VEVENT
DTEND;TZID=Europe/Berlin:20260324T160000
UID:69ea6f89dd82a
DTSTAMP:20260423T211417
LOCATION:Wittmund
DESCRIPTION:Pokémon Day – Voll das Abenteuer!\r\n\r\nHeute dreht sich alles um Pokémon! Sammle deine Lieblinge\, tausche begeistert Karten mit anderen Trainern\, bastle coole Pokemon-Sachen und gestalte bunte Bügelperlen-Motive – von Pikachu bis Charizard und vieles mehr.\r\n\r\nUnter spielerischer Anleitung entsteht dein eigenes Pokémon-Universum mit Knobelspaß\, Team-Battles und Überraschungen für echte Fans.
URL;VALUE=URI:https://www.unser-ferienprogramm.de/wittmund/veranstaltung.php?id=307127
SUMMARY:Pokemon Day mit Henrika
DTSTART;TZID=Europe/Berlin:20260324T140000
END:VEVENT

END:VCALENDAR
