BEGIN:VCALENDAR
VERSION:2.0
PRODID:-//hacksw/handcal//NONSGML v1.0//EN
CALSCALE:GREGORIAN
BEGIN:VTIMEZONE
TZID:Europe/Berlin
X-LIC-LOCATION:Europe/Berlin
BEGIN:DAYLIGHT
TZOFFSETFROM:+0100
TZOFFSETTO:+0200
TZNAME:CEST
DTSTART:19700329T020000
RRULE:FREQ=YEARLY;BYDAY=-1SU;BYMONTH=3
END:DAYLIGHT
BEGIN:STANDARD
TZOFFSETFROM:+0200
TZOFFSETTO:+0100
TZNAME:CET
DTSTART:19701025T030000
RRULE:FREQ=YEARLY;BYDAY=-1SU;BYMONTH=10
END:STANDARD
END:VTIMEZONE
BEGIN:VEVENT
DTEND;TZID=Europe/Berlin:20260323T160000
UID:69ea6f8a20367
DTSTAMP:20260423T211418
LOCATION:Wittmund
DESCRIPTION:Auf eine magische Traumreise voller Glitzer und Farben! Wir lackieren unsere Nägel in bunten Designs\, flechten die Haare zu tollen Zöpfen\, experimentieren mit buntem Haarkreide und zaubern entspannende Gesichtsmasken für strahlende Gesichter.\r\n\r\nUnter spielerischer Anleitung entstehen individuelle Looks – perfekt zum Ausprobieren und Teilen von Tipps mit Freund:innen.
URL;VALUE=URI:https://www.unser-ferienprogramm.de/wittmund/veranstaltung.php?id=307122
SUMMARY:Beauty Day mit Traumreise mit Mika
DTSTART;TZID=Europe/Berlin:20260323T140000
END:VEVENT

END:VCALENDAR
