BEGIN:VCALENDAR
VERSION:2.0
PRODID:-//hacksw/handcal//NONSGML v1.0//EN
CALSCALE:GREGORIAN
BEGIN:VTIMEZONE
TZID:Europe/Berlin
X-LIC-LOCATION:Europe/Berlin
BEGIN:DAYLIGHT
TZOFFSETFROM:+0100
TZOFFSETTO:+0200
TZNAME:CEST
DTSTART:19700329T020000
RRULE:FREQ=YEARLY;BYDAY=-1SU;BYMONTH=3
END:DAYLIGHT
BEGIN:STANDARD
TZOFFSETFROM:+0200
TZOFFSETTO:+0100
TZNAME:CET
DTSTART:19701025T030000
RRULE:FREQ=YEARLY;BYDAY=-1SU;BYMONTH=10
END:STANDARD
END:VTIMEZONE
BEGIN:VEVENT
DTEND;TZID=Europe/Berlin:20260401T150000
UID:69ea84b3e591c
DTSTAMP:20260423T224435
LOCATION:Wittmund
DESCRIPTION:Bastelt euch lustige Popup-Karten\, die richtig aufploppen! Gemeinsam bauen wir den Popup-Mechanismus\, malen die Karten mit Aquarellfarben bunt und dekorieren sie kreativ nach eigenem Geschmack. Sicherer Umgang mit Klebstoff und Schere ist Voraussetzung – perfekt für alle\, die handwerkliche Action und selbstgemachte Geschenke lieben.
URL;VALUE=URI:https://www.unser-ferienprogramm.de/wittmund/veranstaltung.php?id=306835
SUMMARY:Wir basteln eine Popup Karte 2
DTSTART;TZID=Europe/Berlin:20260401T130000
END:VEVENT

END:VCALENDAR
