BEGIN:VCALENDAR
VERSION:2.0
PRODID:-//hacksw/handcal//NONSGML v1.0//EN
CALSCALE:GREGORIAN
BEGIN:VTIMEZONE
TZID:Europe/Berlin
X-LIC-LOCATION:Europe/Berlin
BEGIN:DAYLIGHT
TZOFFSETFROM:+0100
TZOFFSETTO:+0200
TZNAME:CEST
DTSTART:19700329T020000
RRULE:FREQ=YEARLY;BYDAY=-1SU;BYMONTH=3
END:DAYLIGHT
BEGIN:STANDARD
TZOFFSETFROM:+0200
TZOFFSETTO:+0100
TZNAME:CET
DTSTART:19701025T030000
RRULE:FREQ=YEARLY;BYDAY=-1SU;BYMONTH=10
END:STANDARD
END:VTIMEZONE
BEGIN:VEVENT
DTEND;TZID=Europe/Berlin:20260326T120000
UID:69ea6f27e20d3
DTSTAMP:20260423T211239
LOCATION:Wichtelmühle
DESCRIPTION:Aus Stöckern\, Schnur und frühlingshaften Naturmaterialien gestaltet ihr euren eigenen Webrahmen. Schritt für Schritt baut sich jede*r ein kleines Kunstwerk\, in das Gräser\, Blätter\, Blumen und andere Waldschätze eingewoben werden. So entsteht ein ganz persönliches Naturbild zum Mitnehmen – kreativ\, nachhaltig und perfekt für alle\, die gerne draußen sind und etwas mit ihren eigenen Händen gestalten.
URL;VALUE=URI:https://www.unser-ferienprogramm.de/wittmund/veranstaltung.php?id=306828
SUMMARY:Frühlingswebrahmen aus Naturmaterialien
DTSTART;TZID=Europe/Berlin:20260326T100000
END:VEVENT

END:VCALENDAR
