BEGIN:VCALENDAR
VERSION:2.0
PRODID:-//hacksw/handcal//NONSGML v1.0//EN
CALSCALE:GREGORIAN
BEGIN:VTIMEZONE
TZID:Europe/Berlin
X-LIC-LOCATION:Europe/Berlin
BEGIN:DAYLIGHT
TZOFFSETFROM:+0100
TZOFFSETTO:+0200
TZNAME:CEST
DTSTART:19700329T020000
RRULE:FREQ=YEARLY;BYDAY=-1SU;BYMONTH=3
END:DAYLIGHT
BEGIN:STANDARD
TZOFFSETFROM:+0200
TZOFFSETTO:+0100
TZNAME:CET
DTSTART:19701025T030000
RRULE:FREQ=YEARLY;BYDAY=-1SU;BYMONTH=10
END:STANDARD
END:VTIMEZONE
BEGIN:VEVENT
DTEND;TZID=Europe/Berlin:20260327T130000
UID:69ea6f75ef043
DTSTAMP:20260423T211357
LOCATION:Wittmund
DESCRIPTION:Lerne die spannende Welt der Insekten im Wald kennen: Gemeinsam gehen wir auf Entdeckungstour zwischen Bäumen\, Sträuchern und am Waldboden. Mit Lupen und Becherlupen beobachten wir Käfer\, Ameisen & Co. ganz aus der Nähe und finden heraus\, wie und wo sie leben. Dabei erfährst du\, warum Insekten so wichtig für die Natur sind und wie wir sie schützen können – ein Angebot für alle\, die neugierig sind und gerne draußen forschen.
URL;VALUE=URI:https://www.unser-ferienprogramm.de/wittmund/veranstaltung.php?id=306827
SUMMARY:Insekten auf der Spur
DTSTART;TZID=Europe/Berlin:20260327T100000
END:VEVENT

END:VCALENDAR
