BEGIN:VCALENDAR
VERSION:2.0
PRODID:-//hacksw/handcal//NONSGML v1.0//EN
CALSCALE:GREGORIAN
BEGIN:VTIMEZONE
TZID:Europe/Berlin
X-LIC-LOCATION:Europe/Berlin
BEGIN:DAYLIGHT
TZOFFSETFROM:+0100
TZOFFSETTO:+0200
TZNAME:CEST
DTSTART:19700329T020000
RRULE:FREQ=YEARLY;BYDAY=-1SU;BYMONTH=3
END:DAYLIGHT
BEGIN:STANDARD
TZOFFSETFROM:+0200
TZOFFSETTO:+0100
TZNAME:CET
DTSTART:19701025T030000
RRULE:FREQ=YEARLY;BYDAY=-1SU;BYMONTH=10
END:STANDARD
END:VTIMEZONE
BEGIN:VEVENT
DTEND;TZID=Europe/Berlin:20260323T130000
UID:69ea6f7501bf0
DTSTAMP:20260423T211357
LOCATION:Wittmund
DESCRIPTION:Im Wald warten viele spannende Spiele und Herausforderungen auf euch. Gemeinsam entdecken wir die Natur\, spielen Bewegungsspiele zwischen Bäumen und Büschen und lösen kleine Aufgaben im Team. Ihr könnt euch austoben\, Neues ausprobieren und gleichzeitig den Wald mit allen Sinnen erleben – ideale Ferienaction für alle\, die gerne draußen unterwegs sind.
URL;VALUE=URI:https://www.unser-ferienprogramm.de/wittmund/veranstaltung.php?id=306826
SUMMARY:Action im Wald
DTSTART;TZID=Europe/Berlin:20260323T100000
END:VEVENT

END:VCALENDAR
