BEGIN:VCALENDAR
VERSION:2.0
PRODID:-//hacksw/handcal//NONSGML v1.0//EN
CALSCALE:GREGORIAN
BEGIN:VTIMEZONE
TZID:Europe/Berlin
X-LIC-LOCATION:Europe/Berlin
BEGIN:DAYLIGHT
TZOFFSETFROM:+0100
TZOFFSETTO:+0200
TZNAME:CEST
DTSTART:19700329T020000
RRULE:FREQ=YEARLY;BYDAY=-1SU;BYMONTH=3
END:DAYLIGHT
BEGIN:STANDARD
TZOFFSETFROM:+0200
TZOFFSETTO:+0100
TZNAME:CET
DTSTART:19701025T030000
RRULE:FREQ=YEARLY;BYDAY=-1SU;BYMONTH=10
END:STANDARD
END:VTIMEZONE
BEGIN:VEVENT
DTEND;TZID=Europe/Berlin:20260328T120000
UID:69ea6f26373e1
DTSTAMP:20260423T211238
LOCATION:Wittmundhafen
DESCRIPTION:Die Fluggruppe lädt dich zu einem besonderen Ferien-Erlebnis ein: Steig in einen Motorsegler oder ein Motorflugzeug und erlebe einen Rundflug über Wittmund aus der Vogelperspektive. Du siehst deine Stadt\, Felder und Umgebung von oben und bekommst einen spannenden Einblick in die Welt der Fliegerei. Ideal für alle\, die neugierig sind\, wie sich Fliegen wirklich anfühlt und Lust auf ein unvergessliches Ferienabenteuer haben.
URL;VALUE=URI:https://www.unser-ferienprogramm.de/wittmund/veranstaltung.php?id=306820
SUMMARY:Rundflug über Wittmund 1
DTSTART;TZID=Europe/Berlin:20260328T110000
END:VEVENT

END:VCALENDAR
