BEGIN:VCALENDAR
VERSION:2.0
PRODID:-//hacksw/handcal//NONSGML v1.0//EN
CALSCALE:GREGORIAN
BEGIN:VTIMEZONE
TZID:Europe/Berlin
X-LIC-LOCATION:Europe/Berlin
BEGIN:DAYLIGHT
TZOFFSETFROM:+0100
TZOFFSETTO:+0200
TZNAME:CEST
DTSTART:19700329T020000
RRULE:FREQ=YEARLY;BYDAY=-1SU;BYMONTH=3
END:DAYLIGHT
BEGIN:STANDARD
TZOFFSETFROM:+0200
TZOFFSETTO:+0100
TZNAME:CET
DTSTART:19701025T030000
RRULE:FREQ=YEARLY;BYDAY=-1SU;BYMONTH=10
END:STANDARD
END:VTIMEZONE
BEGIN:VEVENT
DTEND;TZID=Europe/Berlin:20260326T163000
UID:69ea84b2155f1
DTSTAMP:20260423T224434
LOCATION:Wittmund
DESCRIPTION:Tischtennis ist die ideale Mischung aus Bewegung\, Konzentration und ganz viel Spaß – und bei diesem Angebot können Anfänger*innen und Fortgeschrittene gleichermaßen mitmachen. Gemeinsam üben wir die ersten Techniken\, probieren verschiedene Spiele rund um Ball und Schläger aus und kommen dabei so richtig in Bewegung. Ihr könnt alles in Ruhe ausprobieren\, neue Tricks lernen und einfach eine sportliche Zeit in der Gruppe verbringen – wichtig sind nur Lust auf Action und bequeme Sportsachen.
URL;VALUE=URI:https://www.unser-ferienprogramm.de/wittmund/veranstaltung.php?id=306818
SUMMARY:Tischtennis für Anfänger und Fortgeschrittene
DTSTART;TZID=Europe/Berlin:20260326T150000
END:VEVENT

END:VCALENDAR
