BEGIN:VCALENDAR
VERSION:2.0
PRODID:-//hacksw/handcal//NONSGML v1.0//EN
CALSCALE:GREGORIAN
BEGIN:VTIMEZONE
TZID:Europe/Berlin
X-LIC-LOCATION:Europe/Berlin
BEGIN:DAYLIGHT
TZOFFSETFROM:+0100
TZOFFSETTO:+0200
TZNAME:CEST
DTSTART:19700329T020000
RRULE:FREQ=YEARLY;BYDAY=-1SU;BYMONTH=3
END:DAYLIGHT
BEGIN:STANDARD
TZOFFSETFROM:+0200
TZOFFSETTO:+0100
TZNAME:CET
DTSTART:19701025T030000
RRULE:FREQ=YEARLY;BYDAY=-1SU;BYMONTH=10
END:STANDARD
END:VTIMEZONE
BEGIN:VEVENT
DTEND;TZID=Europe/Berlin:20260330T120000
UID:69ea84c27b62f
DTSTAMP:20260423T224450
LOCATION:Aurich-Middels
DESCRIPTION:Abenteuer mit Alpakas! \r\nHier kannst du alles über Alpakas lernen! Wir schauen uns die Tiere im Stall oder auf der Weide genau an. \r\nDie Alpakas dürfen geführt und gefüttert werden – so nah kommst du ihnen garantiert nicht oft! \r\nUnd das Beste: Nach deinem Alpaka-Quiz bekommst du eine Urkunde – als Erinnerung an dein spannendes Alpaka-Abenteuer! 
URL;VALUE=URI:https://www.unser-ferienprogramm.de/wittmund/veranstaltung.php?id=306814
SUMMARY:Alpakaführerschein
DTSTART;TZID=Europe/Berlin:20260330T100000
END:VEVENT

END:VCALENDAR
