BEGIN:VCALENDAR
VERSION:2.0
PRODID:-//hacksw/handcal//NONSGML v1.0//EN
CALSCALE:GREGORIAN
BEGIN:VTIMEZONE
TZID:Europe/Berlin
X-LIC-LOCATION:Europe/Berlin
BEGIN:DAYLIGHT
TZOFFSETFROM:+0100
TZOFFSETTO:+0200
TZNAME:CEST
DTSTART:19700329T020000
RRULE:FREQ=YEARLY;BYDAY=-1SU;BYMONTH=3
END:DAYLIGHT
BEGIN:STANDARD
TZOFFSETFROM:+0200
TZOFFSETTO:+0100
TZNAME:CET
DTSTART:19701025T030000
RRULE:FREQ=YEARLY;BYDAY=-1SU;BYMONTH=10
END:STANDARD
END:VTIMEZONE
BEGIN:VEVENT
DTEND;TZID=Europe/Berlin:20260717T120000
UID:69ea937a3b001
DTSTAMP:20260423T234738
LOCATION:Knesebeck\, Strandbad
DESCRIPTION:Pack dein Zelt ein und erlebe vier unvergessliche Tage voller Spaß\, Sonne und Gemeinschaft!\r\nAlle Jugendlichen ab 12 Jahren aus den Samtgemeinden Wesendorf und Brome\, der Einheitsgemeinde Sassenburg sowie der Stadt Wittingen sind herzlich eingeladen zum großen Sommercamp im Strandbad Knesebeck!\r\n\r\nWas Dich erwartet: \r\nCoole Bade-Action im Strandbad\r\n\r\nKleine Mitmachaktionen über den Tag verteilt \r\n\r\nviel freie Zeit zum Chillen und Seele baumeln lassen\r\n\r\nWir übernachten in Zelten und versorgen uns selbst - Teamgeist ist gefragt!\r\nVeranstaltet wird das Camp gemeinsam mit dem Landkreis Gifhorn.\r\n\r\nJetzt anmelden und dem Sommer mit Freunden genießen!
URL;VALUE=URI:https://www.unser-ferienprogramm.de/wittingen/veranstaltung.php?id=313122
SUMMARY:Sommercamp 2026
DTSTART;TZID=Europe/Berlin:20260714T140000
END:VEVENT

END:VCALENDAR
