BEGIN:VCALENDAR
VERSION:2.0
PRODID:-//hacksw/handcal//NONSGML v1.0//EN
CALSCALE:GREGORIAN
BEGIN:VTIMEZONE
TZID:Europe/Berlin
X-LIC-LOCATION:Europe/Berlin
BEGIN:DAYLIGHT
TZOFFSETFROM:+0100
TZOFFSETTO:+0200
TZNAME:CEST
DTSTART:19700329T020000
RRULE:FREQ=YEARLY;BYDAY=-1SU;BYMONTH=3
END:DAYLIGHT
BEGIN:STANDARD
TZOFFSETFROM:+0200
TZOFFSETTO:+0100
TZNAME:CET
DTSTART:19701025T030000
RRULE:FREQ=YEARLY;BYDAY=-1SU;BYMONTH=10
END:STANDARD
END:VTIMEZONE
BEGIN:VEVENT
DTEND;TZID=Europe/Berlin:20260712T130000
UID:69ed0491760da
DTSTAMP:20260425T201441
LOCATION:LiLi-Servicekino - Huntestr. 11 27793 Wildeshausen
DESCRIPTION:Beim Aufräumen des Kellers entdecken Tobi und Marina eine alte Videoaufnahme: Der achtjährige Tobi moderiert darin eine selbst erfundene Show über die Erde in unseren Böden – und stellt seine allererste "Checker-Frage": Wer hinterlässt die mächtigsten Spuren im Erdreich?\r\n\r\nDoch die Antwort darauf hat Tobi wieder vergessen. Er begibt sich auf Spurensuche\, und damit auf sein bislang größtes Abenteuer. Dieses führt ihn in die Tier- und Pflanzenwelt Madagaskars\, in die Permafrostregion Spitzbergens und zu den Spuren der alten Maya in Mexiko. Erst als er erkennt\, was alle Böden verbindet und was das mit uns zu tun hat\, kann er seinem größten Herausforderer\, sich selbst\, antworten. \r\n\r\nQuelle: https://www.mfa-film.de/kino/id/checker-tobi-3-die-heimliche-herrscherin-der-erde/\r\n\r\n
URL;VALUE=URI:https://www.unser-ferienprogramm.de/wildeshausen/veranstaltung.php?id=318734
SUMMARY:Kino: "Checker Tobi 3 - Die heimliche Herrscherin der Erde"
DTSTART;TZID=Europe/Berlin:20260712T110000
END:VEVENT

END:VCALENDAR
