BEGIN:VCALENDAR
VERSION:2.0
PRODID:-//hacksw/handcal//NONSGML v1.0//EN
CALSCALE:GREGORIAN
BEGIN:VTIMEZONE
TZID:Europe/Berlin
X-LIC-LOCATION:Europe/Berlin
BEGIN:DAYLIGHT
TZOFFSETFROM:+0100
TZOFFSETTO:+0200
TZNAME:CEST
DTSTART:19700329T020000
RRULE:FREQ=YEARLY;BYDAY=-1SU;BYMONTH=3
END:DAYLIGHT
BEGIN:STANDARD
TZOFFSETFROM:+0200
TZOFFSETTO:+0100
TZNAME:CET
DTSTART:19701025T030000
RRULE:FREQ=YEARLY;BYDAY=-1SU;BYMONTH=10
END:STANDARD
END:VTIMEZONE
BEGIN:VEVENT
DTEND;TZID=Europe/Berlin:20260705T130000
UID:69ed04b35a929
DTSTAMP:20260425T201515
LOCATION:LiLi-Servicekino - Huntestr. 11 27793 Wildeshausen
DESCRIPTION:Die Sommerferien haben begonnen und Die drei ??? wollen einen Roadtrip unternehmen. Doch gerade als Justus Jonas (JULIUS WECKAUF)\, Peter Shaw (NEVIO WENDT) und Bob Andrews (LEVI BRANDL) aufbrechen wollen\, klingelt in der Zentrale das Telefon und ein unbekannter Anrufer übergibt dem Detektiv-Trio ihren neuesten Fall. Da sind die Urlaubspläne natürlich schnell vergessen. Die drei Jungs verfolgen die Spuren und stoßen auf den Geheimbund Sphinx rund um den mysteriösen Archäologie-Professor Phoenix (ANDREAS PIETSCHMANN) und seinen Assistenten Olin (JANNIK SCHÜMANN). Sphinx führt illegale Ausgrabungen durch und verkauft die so gestohlenen Kunstschätze. Bald starten sie eine Expedition zu der aktiven Vulkaninsel Makatao\, die auch als die Toteninsel bekannt ist. Denn die dort gelegene Ruhestätte eines uralten Volkes soll mit einem Fluch belegt sein: Niemand\, der Makatao betritt\, kommt lebend zurück. Warum begibt sich Sphinx auf eine so waghalsige Reise? Und was hat der erfolgreiche Unternehmer Joseph Saito Hadden (SIMON KLUTH) mit der Expedition zu tun?\r\nQuelle: https://www.sonypictures.de/filme/die-drei-fragezeichen-toteninsel\r\n
URL;VALUE=URI:https://www.unser-ferienprogramm.de/wildeshausen/veranstaltung.php?id=316771
SUMMARY:Kino: "Die 3 ??? und die Toteninsel"
DTSTART;TZID=Europe/Berlin:20260705T110000
END:VEVENT

END:VCALENDAR
