BEGIN:VCALENDAR
VERSION:2.0
PRODID:-//hacksw/handcal//NONSGML v1.0//EN
CALSCALE:GREGORIAN
BEGIN:VTIMEZONE
TZID:Europe/Berlin
X-LIC-LOCATION:Europe/Berlin
BEGIN:DAYLIGHT
TZOFFSETFROM:+0100
TZOFFSETTO:+0200
TZNAME:CEST
DTSTART:19700329T020000
RRULE:FREQ=YEARLY;BYDAY=-1SU;BYMONTH=3
END:DAYLIGHT
BEGIN:STANDARD
TZOFFSETFROM:+0200
TZOFFSETTO:+0100
TZNAME:CET
DTSTART:19701025T030000
RRULE:FREQ=YEARLY;BYDAY=-1SU;BYMONTH=10
END:STANDARD
END:VTIMEZONE
BEGIN:VEVENT
DTEND;TZID=Europe/Berlin:20260702T200000
UID:69ed04bf81d74
DTSTAMP:20260425T201527
LOCATION:Bahnhof
DESCRIPTION:Treffpunkt: am Bahnhof Wildeshausen. Bitte Taschengeld/Verpflegung mitbringen! Einverständniserklärung muss abgegeben werden. \r\nKind darf in zweier Gruppe\, ohne erwachsene Begleitperson durch den Park.  \r\nHandymitnahme\, sofern vorhanden\, empfohlen.
URL;VALUE=URI:https://www.unser-ferienprogramm.de/wildeshausen/veranstaltung.php?id=316055
SUMMARY:Heide-Park
DTSTART;TZID=Europe/Berlin:20260702T080000
END:VEVENT

END:VCALENDAR
