BEGIN:VCALENDAR
VERSION:2.0
PRODID:-//hacksw/handcal//NONSGML v1.0//EN
CALSCALE:GREGORIAN
BEGIN:VTIMEZONE
TZID:Europe/Berlin
X-LIC-LOCATION:Europe/Berlin
BEGIN:DAYLIGHT
TZOFFSETFROM:+0100
TZOFFSETTO:+0200
TZNAME:CEST
DTSTART:19700329T020000
RRULE:FREQ=YEARLY;BYDAY=-1SU;BYMONTH=3
END:DAYLIGHT
BEGIN:STANDARD
TZOFFSETFROM:+0200
TZOFFSETTO:+0100
TZNAME:CET
DTSTART:19701025T030000
RRULE:FREQ=YEARLY;BYDAY=-1SU;BYMONTH=10
END:STANDARD
END:VTIMEZONE
BEGIN:VEVENT
DTEND;TZID=Europe/Berlin:20260703T130000
UID:69ed041e8f199
DTSTAMP:20260425T201246
LOCATION:LaOla Fitness + Fußball Center Ahlhorn - Zum Sportzentrum 3\, 26197 Großenkneten
DESCRIPTION:Es sollen mehrere Minispiele gespielt werden\, wo der Fußball und der Spaß im\r\nVordergrund ist. Es wird Bubble Fußball gespielt\, bei denen die Kinder in einer großen\r\ndurchsichtigen Blase Fußball spielen und sich damit wegstoßen. Dabei haben die Kinder\r\nbesonders viel Spaß. Außerdem bauen wir eine Fußballdartscheibe auf\, wo die\r\nSchusstechnik und Präzision spielerisch trainiert werden kann. Für Versorgung wird auch\r\ngesorgt\, indem es mittags Pommes und Nuggets gibt\, im Anschluss gibt es eine kleine\r\nÜberraschung. Getränke stehen auch durchgängig zur Verfügung. 
URL;VALUE=URI:https://www.unser-ferienprogramm.de/wildeshausen/veranstaltung.php?id=314480
SUMMARY:Bubble Fußball im LaOla Ahlhorn am 03.07.
DTSTART;TZID=Europe/Berlin:20260703T093000
END:VEVENT

END:VCALENDAR
