BEGIN:VCALENDAR
VERSION:2.0
PRODID:-//hacksw/handcal//NONSGML v1.0//EN
CALSCALE:GREGORIAN
BEGIN:VTIMEZONE
TZID:Europe/Berlin
X-LIC-LOCATION:Europe/Berlin
BEGIN:DAYLIGHT
TZOFFSETFROM:+0100
TZOFFSETTO:+0200
TZNAME:CEST
DTSTART:19700329T020000
RRULE:FREQ=YEARLY;BYDAY=-1SU;BYMONTH=3
END:DAYLIGHT
BEGIN:STANDARD
TZOFFSETFROM:+0200
TZOFFSETTO:+0100
TZNAME:CET
DTSTART:19701025T030000
RRULE:FREQ=YEARLY;BYDAY=-1SU;BYMONTH=10
END:STANDARD
END:VTIMEZONE
BEGIN:VEVENT
DTEND;TZID=Europe/Berlin:20260707T120000
UID:69ed04875a726
DTSTAMP:20260425T201431
LOCATION:Urgeschichtliches Zentrum Wildeshausen\, Huntestr. 47\, 27793 Wildeshausen
DESCRIPTION:Filzen gehört zu den (ur)alten Handwerkstechniken für die Herstellung von Textilien. Die Kinder können unter der Anleitung von zwei kenntnisreichen Pädagoginnen die einzelnen Arbeitsschritte ausprobieren\, um die Schafswolle in kleine Objekte aus Filz zu verwandeln. Vorkenntnisse sind nicht erforderlich\, aber vielleicht wird hier ein neues Hobby entdeckt.
URL;VALUE=URI:https://www.unser-ferienprogramm.de/wildeshausen/veranstaltung.php?id=314464
SUMMARY:Filzen wie in der Urgeschichte
DTSTART;TZID=Europe/Berlin:20260707T100000
END:VEVENT

END:VCALENDAR
